BEGIN:VCALENDAR
VERSION:2.0
PRODID:-//ChamberMaster//Event Calendar 2.0//EN
METHOD:PUBLISH
X-PUBLISHED-TTL:P3D
REFRESH-INTERVAL:P3D
CALSCALE:GREGORIAN
BEGIN:VEVENT
DTSTART:20150703T211500Z
DTEND:20150704T020000Z
X-MICROSOFT-CDO-ALLDAYEVENT:FALSE
SUMMARY:Night Before the 4th Community Road Race
DESCRIPTION:On Friday\, July 3rd\, Humble Warrior Yoga will be hosting the 1st Annual ?Night Before the 4th Community Road Race? in Walpole to raise awareness and funding for the Norfolk Advocates for Children. Walpole celebrates the independence of our Nation by holding its popular parade and fireworks display for thousands each year. A staple in Walpole\, the celebration has been going strong for over 50 years\, and has grown into quite a spectacular event. Traditionally\, this community event begins with the popular Fire Truck Parade at 6pm\, however\, we have been granted permission to enhance this long-standing celebration by kicking off the evening with a 5:15pm Road Race along the Parade Route. The Finish Line will be at the Italian American Club in the Center of Walpole. Following the parade\, an assortment of food\, live music\, refreshments and activities will be available to the public. At 9:30 p.m.\, the night will be capped off with a big bang as a 40 minute fireworks display will dazzle countless onlookers.
X-ALT-DESC;FMTTYPE=text/html:On Friday\, July 3rd\, Humble Warrior Yoga will be hosting the 1st Annual ?Night Before the 4th Community Road Race? in Walpole to raise awareness and funding for the Norfolk Advocates for Children. Walpole celebrates the independence of our Nation by holding its popular parade and fireworks display for thousands each year. A staple in Walpole\, the celebration has been going strong for over 50 years\, and has grown into quite a spectacular event. Traditionally\, this community event begins with the popular Fire Truck Parade at 6pm\, however\, we have been granted permission to enhance this long-standing celebration by kicking off the evening with a 5:15pm Road Race along the Parade Route. The Finish Line will be at the Italian American Club in the Center of Walpole. Following the parade\, an assortment of food\, live music\, refreshments and activities will be available to the public. At 9:30 p.m.\, the night will be capped off with a big bang as a 40 minute fireworks display will dazzle countless onlookers.
LOCATION:Start Time/Location: 5:15pm 141 Mansion Drive Walpole MA 02081. End Time/Location: 6:00pm The Italian American Club 109 Stone Street Walpole MA 02081
UID:e.1730.1669
SEQUENCE:3
DTSTAMP:20260419T223849Z
URL:https://www.tri-townchamber.org/events/details/night-before-the-4th-community-road-race-07-03-2015-1669
END:VEVENT

END:VCALENDAR
