BEGIN:VCALENDAR
VERSION:2.0
PRODID:-//ChamberMaster//Event Calendar 2.0//EN
METHOD:PUBLISH
X-PUBLISHED-TTL:P3D
REFRESH-INTERVAL:P3D
CALSCALE:GREGORIAN
BEGIN:VEVENT
DTSTART:20160131T000000Z
DTEND:20160131T040000Z
X-MICROSOFT-CDO-ALLDAYEVENT:FALSE
SUMMARY:New Hope's 8th Annual Wine\, Beer & Food Tasting
DESCRIPTION:Beat the winter doldrums with an elegant night of fine wine\, craft beer & culinary delights -- all "under the stars" at Briggs in N. Attleboro. All proceeds benefit New Hope\, Inc.'s life-saving programs for survivors of domestic and sexual violence.
X-ALT-DESC;FMTTYPE=text/html:Beat the winter doldrums with an elegant night of fine wine\, craft beer &amp\; culinary delights -- all &quot\;under the stars&quot\; at Briggs in N. Attleboro. All proceeds benefit New Hope\, Inc.&#39\;s life-saving programs for survivors of domestic and sexual violence.
LOCATION:Briggs Garden & Home 295 Kelley Boulevard N. Attleboro\, MA
UID:e.1730.2087
SEQUENCE:3
DTSTAMP:20260419T141341Z
URL:https://www.tri-townchamber.org/events/details/new-hope-s-8th-annual-wine-beer-food-tasting-01-30-2016-2087
END:VEVENT

END:VCALENDAR
