BEGIN:VCALENDAR
VERSION:2.0
PRODID:-//ChamberMaster//Event Calendar 2.0//EN
METHOD:PUBLISH
X-PUBLISHED-TTL:P3D
REFRESH-INTERVAL:P3D
CALSCALE:GREGORIAN
BEGIN:VEVENT
DTSTART:20150125T000000Z
DTEND:20150124T170000Z
X-MICROSOFT-CDO-ALLDAYEVENT:FALSE
SUMMARY:New Hope / 7th Annual Moonlit Wine\, Beer & Food tasting
DESCRIPTION:New Hope\, Inc. is pleased to announce our 7th Annual Moonlit Wine\, Beer & Food tasting\, to be held on Saturday\, January 24\, 2014 at Briggs Garden & Home (295 Kelley Boulevard\, North Attleboro).\n\nThe evening promises a night of fine wine\, craft beer\, gourmet food and live entertainment including a celebrity-hosted auction. Auction items will include: travel packages\, New-England-themed sports memorabilia\, spa/"princess for a day" package and much more. All guests will receive a souvenir wine glass\, compliments of Nelson Family Dental.
X-ALT-DESC;FMTTYPE=text/html:<span style="font-size:14px\;"><span style="font-family:arial\;">New Hope\, Inc. is pleased to announce our <strong><em>7<sup>th</sup> Annual Moonlit Wine\, Beer &amp\; Food </em></strong>tasting\, to be held on Saturday\, January 24\, 2014 at Briggs Garden &amp\; Home (295 Kelley Boulevard\, North Attleboro).<br />\nThe evening promises a night of fine wine\, craft beer\, gourmet food and live entertainment including a celebrity-hosted auction. Auction items will include: travel packages\, New-England-themed sports memorabilia\, spa/&rdquo\;princess for a day&rdquo\; package and much more. All guests will receive a souvenir wine glass\, compliments of Nelson Family Dental.<br />\n&nbsp\;</span></span><br />\n&nbsp\;
LOCATION:
UID:e.1730.1265
SEQUENCE:3
DTSTAMP:20260420T100842Z
URL:https://www.tri-townchamber.org/events/details/new-hope-7th-annual-moonlit-wine-beer-food-tasting-01-24-2015-1265
END:VEVENT

END:VCALENDAR
