BEGIN:VCALENDAR
VERSION:2.0
PRODID:-//ChamberMaster//Event Calendar 2.0//EN
METHOD:PUBLISH
X-PUBLISHED-TTL:P3D
REFRESH-INTERVAL:P3D
CALSCALE:GREGORIAN
BEGIN:VEVENT
DTSTART:20150408T120000Z
DTEND:20150408T131500Z
X-MICROSOFT-CDO-ALLDAYEVENT:FALSE
SUMMARY:New Credit Card Processing and Liability for Merchants
DESCRIPTION:The Way to Do Business Is about to change in a BIG way!\n\n\n	Does your business currently accept credit cards? \n	Do you know about the EMV chip cards and understand the implications? \n	What do you need to do to prepare?\n	The 2015 deadline will be here soon.  Are you ready?\n\nJoin us to answer these and many other questions regarding merchant processing\n\n \n\nSponsored by:  Rockland Trust and East Commerce Solutions\n\nStephanie K. Comeau  Vice President/Branch Manager at Rockland Trust Foxboro
X-ALT-DESC;FMTTYPE=text/html:<strong>The Way to Do Business Is about to change in a BIG way!</strong>\n\n<ul>\n	<li>Does your business currently accept credit cards?&nbsp\;</li>\n	<li>Do you know about the EMV chip cards and understand the implications?&nbsp\;</li>\n	<li>What do you need to do to prepare?</li>\n	<li>The 2015 deadline will be here soon.&nbsp\; Are you ready?</li>\n</ul>\nJoin us to answer these and many other questions regarding merchant processing<br />\n&nbsp\;<br />\nSponsored by:&nbsp\; Rockland Trust and East Commerce Solutions<br />\nStephanie K. Comeau&nbsp\; Vice President/Branch Manager at Rockland Trust Foxboro
LOCATION:at the Tri-Town Chamber of Commerce 280 School St.\, Building Chamber building is within the Mansfield Crossing shopping plaza - follow sign for Kohls our building is to the right and set behind
UID:e.1730.1572
SEQUENCE:3
DTSTAMP:20260420T045957Z
URL:https://www.tri-townchamber.org/events/details/new-credit-card-processing-and-liability-for-merchants-04-08-2015-1572
END:VEVENT

END:VCALENDAR
