BEGIN:VCALENDAR
VERSION:2.0
PRODID:-//ChamberMaster//Event Calendar 2.0//EN
METHOD:PUBLISH
X-PUBLISHED-TTL:P3D
REFRESH-INTERVAL:P3D
CALSCALE:GREGORIAN
BEGIN:VEVENT
DTSTART:20131023T140000Z
DTEND:20131023T160000Z
X-MICROSOFT-CDO-ALLDAYEVENT:FALSE
SUMMARY:Need Help with Adding Information to Your Member Listing? Sign Up for a Session
DESCRIPTION:These Sessions will be One Hour each\, and are designed to help you take advantage of your Free Member Listing. This will be a working session\, so Participants are encouraged to bring lap tops or tablets.  Come for 15 minutes or an hour!\n\n\n\nPlease register in advance for a Time slot.\n\n\n\n Add Hours of Operation\n\n Add Directions / Location Information\n\n Add Brief Description on your Business\n\n Add Eight Key Words (these help identify your business when a website visitor does a Business Directory key word search. These words can be simple\, use key words for your industry)\n\n Add Member to Member Deals\n\n Add Job Postings\n\n Add Hot Deals\n\n \n\nThis video is a Great tool included a 2 minute Video  http://www.screencast.com/t/zJcdGmZNu9\n\n \n\n"We are averaging over a thousand hits per day on the Tri-Town Chamber website's online business directory each year looking for an area business like you.  As a Chamber Member\, you have a listing in this online directory\, which will allow you to add more content\, and be found by more people"
X-ALT-DESC;FMTTYPE=text/html:These Sessions will be One Hour each\, and are designed to help you take advantage of your Free Member Listing. This will be a working session\, so Participants are encouraged to bring lap tops or tablets. &nbsp\;Come for 15 minutes or an hour!<br />\n<br />\nPlease register in advance for a Time slot.<br />\n<br />\n&bull\;Add Hours of Operation<br />\n&bull\;Add Directions / Location Information<br />\n&bull\;Add Brief Description on your Business<br />\n&bull\;Add Eight Key Words (these help identify your business when a website visitor does a Business Directory key word search. These words can be simple\, use key words for your industry)<br />\n&bull\;Add Member to Member Deals<br />\n&bull\;Add Job Postings<br />\n&bull\;Add Hot Deals<br />\n&nbsp\;<br />\nThis video is a Great tool included a 2 minute Video&nbsp\; <a href="http://www.screencast.com/t/zJcdGmZNu9">http://www.screencast.com/t/zJcdGmZNu9</a><br />\n&nbsp\;<br />\n&ldquo\;We are averaging over a thousand hits per day on the Tri-Town Chamber website&rsquo\;s online business directory each year looking for an area business like you.&nbsp\; As a Chamber Member\, you have a listing in this online directory\, which will allow you to add more content\, and be found by more people&rdquo\;<br />\n
LOCATION:Held at the Tri-Town Chamber of Commerce
UID:e.1730.417
SEQUENCE:3
DTSTAMP:20260421T113716Z
URL:https://www.tri-townchamber.org/events/details/need-help-with-adding-information-to-your-member-listing-sign-up-for-a-session-10-23-2013-417
END:VEVENT

END:VCALENDAR
