BEGIN:VCALENDAR
VERSION:2.0
PRODID:-//ChamberMaster//Event Calendar 2.0//EN
METHOD:PUBLISH
X-PUBLISHED-TTL:P3D
REFRESH-INTERVAL:P3D
CALSCALE:GREGORIAN
BEGIN:VEVENT
DTSTART:20141113T223000Z
DTEND:20141113T233000Z
X-MICROSOFT-CDO-ALLDAYEVENT:FALSE
SUMMARY:Multiple Sclerosis (MS) Center Open House
DESCRIPTION:The MS Center at Sturdy Memorial Hospital will hold a FREE Open House on Thursday\, November 13 from 5:30-6:30pm. Learn more at www.sturdymemorial.org/serv_multiplesclerosis.html.
X-ALT-DESC;FMTTYPE=text/html:The MS Center at Sturdy Memorial Hospital will hold a <strong>FREE</strong> Open House on&nbsp\;Thursday\, November 13 from 5:30-6:30pm. Learn more at <a href="http://www.sturdymemorial.org/serv_multiplesclerosis.html">www.sturdymemorial.org/serv_multiplesclerosis.html</a>.
LOCATION:Sturdy Memorial Hospital MS Center\, 211 Park Street\, Attleboro
UID:e.1730.1074
SEQUENCE:3
DTSTAMP:20260420T113356Z
URL:https://www.tri-townchamber.org/events/details/multiple-sclerosis-ms-center-open-house-11-13-2014-1074
END:VEVENT

END:VCALENDAR
