BEGIN:VCALENDAR
VERSION:2.0
PRODID:-//ChamberMaster//Event Calendar 2.0//EN
METHOD:PUBLISH
X-PUBLISHED-TTL:P3D
REFRESH-INTERVAL:P3D
CALSCALE:GREGORIAN
BEGIN:VEVENT
DTSTART:20150521T213000Z
DTEND:20150521T223000Z
X-MICROSOFT-CDO-ALLDAYEVENT:FALSE
SUMMARY:Multiple Sclerosis (MS) Center Open House
DESCRIPTION:Multiple Sclerosis (MS) Center Open House\n\nThursday\, May 21\n\n5:30   6:30 p.m.\n\nSturdy Memorial Hospital's MS Center provides local access to treatments that minimize the progression and impact of MS and improve well-being. Individualized treatment plans involve medications\, BOTOX  and TYSABRI  for spasticity\, Medtronic pump management\, and physical\, occupational\, and speech/language therapy\, among other treatments and services. Learn more about the MS Center's treatments and services\, meet the MS Center team\, ask questions\, enjoy refreshments\, and more at its FREE Open House on Thursday\, May 21 from 5:30   6:30 p.m. For more information and to register\, call 508-236-8020.
X-ALT-DESC;FMTTYPE=text/html:<strong>Multiple Sclerosis (MS) Center Open House</strong><br />\nThursday\, May 21<br />\n5:30 &ndash\; 6:30 p.m.<br />\nSturdy Memorial Hospital&rsquo\;s MS Center provides local access to treatments that minimize the progression and impact of MS and improve well-being. Individualized treatment plans involve medications\, BOTOX&reg\; and TYSABRI&reg\; for spasticity\, Medtronic pump management\, and physical\, occupational\, and speech/language therapy\, among other treatments and services. Learn more about the MS Center&rsquo\;s treatments and services\, meet the MS Center team\, ask questions\, enjoy refreshments\, and more at its <strong>FREE</strong> Open House on Thursday\, May 21 from 5:30 &ndash\; 6:30 p.m. For more information and to register\, call <strong>508-236-8020</strong>.&nbsp\;
LOCATION:Sturdy Memorial Hospital\, 211 Park Street\, Attleboro MA 02703
UID:e.1730.1585
SEQUENCE:3
DTSTAMP:20260420T032146Z
URL:https://www.tri-townchamber.org/events/details/multiple-sclerosis-ms-center-open-house-05-21-2015-1585
END:VEVENT

END:VCALENDAR
