BEGIN:VCALENDAR
VERSION:2.0
PRODID:-//ChamberMaster//Event Calendar 2.0//EN
METHOD:PUBLISH
X-PUBLISHED-TTL:P3D
REFRESH-INTERVAL:P3D
CALSCALE:GREGORIAN
BEGIN:VEVENT
DTSTART:20140410T230000Z
DTEND:20140411T003000Z
X-MICROSOFT-CDO-ALLDAYEVENT:FALSE
SUMMARY:Money Smart Week
DESCRIPTION:As part of the Mansfield Libraries Money Smart Week David Santoro will be presenting "Retire Prepared. Will you be Ready?"
X-ALT-DESC;FMTTYPE=text/html:As part of the Mansfield Libraries Money Smart Week David Santoro will be presenting &quot\;Retire Prepared. Will you be Ready?&quot\;
LOCATION:Mansfield Library
UID:e.1730.985
SEQUENCE:3
DTSTAMP:20260421T014728Z
URL:https://www.tri-townchamber.org/events/details/money-smart-week-04-10-2014-985
END:VEVENT

END:VCALENDAR
