BEGIN:VCALENDAR
VERSION:2.0
PRODID:-//ChamberMaster//Event Calendar 2.0//EN
METHOD:PUBLISH
X-PUBLISHED-TTL:P3D
REFRESH-INTERVAL:P3D
CALSCALE:GREGORIAN
BEGIN:VEVENT
DTSTART:20160114T130000Z
DTEND:20160114T141500Z
X-MICROSOFT-CDO-ALLDAYEVENT:FALSE
SUMMARY:Microsoft Office Tips
DESCRIPTION:LET'S MAKE YOUR MS OFFICE EASIER!!\n\nCome learn some MS Office Tips and Tricks with Joe Clayton\, Senior Instructor at The Alpha Group's Training Division\, On January 14. Start the Ctrl N Year off with some Ctrl B Ctrl N ways to do your everyday work. In case you didn't understand that last sentence it read  Start the New Year off with some Bold New ways to do your everyday work. Come learn about tons of other shortcuts in Word\, Excel and PowerPoint. Ctrl X some time out of your schedule  this class is one you can't Ctrl Z.\n\n \n\nJoe Clayton\n\nSenior Instructor\n\nThe Alpha Group Training  formerly Smartlink
X-ALT-DESC;FMTTYPE=text/html:<strong>LET&rsquo\;S MAKE YOUR MS OFFICE EASIER!!</strong><br />\nCome learn some MS Office Tips and Tricks with Joe Clayton\, Senior Instructor at The Alpha Group&rsquo\;s Training Division\, On January 14. Start the Ctrl N Year off with some Ctrl B Ctrl N ways to do your everyday work. In case you didn&rsquo\;t understand that last sentence it read&hellip\; Start the New Year off with some Bold New ways to do your everyday work. Come learn about tons of other shortcuts in Word\, Excel and PowerPoint. Ctrl X some time out of your schedule&hellip\; this class is one you can&rsquo\;t Ctrl Z.<br />\n&nbsp\;<br />\nJoe Clayton<br />\nSenior Instructor<br />\nThe Alpha Group Training&hellip\; formerly Smartlink<br />\n&nbsp\;
LOCATION:at the Tri-Town Chamber of Commerce Building held in the MCB Financial Services at Mansfield Bank Conference Room Chamber Building: 280 School St.\, Building L100 (farmhouse is located to the right of Kohls department store)
UID:e.1730.1851
SEQUENCE:3
DTSTAMP:20260419T124150Z
URL:https://www.tri-townchamber.org/events/details/microsoft-office-tips-01-14-2016-1851
END:VEVENT

END:VCALENDAR
