BEGIN:VCALENDAR
VERSION:2.0
PRODID:-//ChamberMaster//Event Calendar 2.0//EN
METHOD:PUBLISH
X-PUBLISHED-TTL:P3D
REFRESH-INTERVAL:P3D
CALSCALE:GREGORIAN
BEGIN:VEVENT
DTSTART;VALUE=DATE:20150603
DTEND;VALUE=DATE:20150605
TRANSP:TRANSPARENT
X-MICROSOFT-CDO-ALLDAYEVENT:TRUE
SUMMARY:Membership Drive!
DESCRIPTION:Help your business\, by helping grow the Chamber!\n\nMore info shortly
X-ALT-DESC;FMTTYPE=text/html:Help your business\, by helping grow the Chamber!<br />\nMore info shortly
LOCATION:at the Chamber
UID:e.1730.1655
SEQUENCE:3
DTSTAMP:20260420T014540Z
URL:https://www.tri-townchamber.org/events/details/membership-drive-06-03-2015-1655
END:VEVENT

END:VCALENDAR
