BEGIN:VCALENDAR
VERSION:2.0
PRODID:-//ChamberMaster//Event Calendar 2.0//EN
METHOD:PUBLISH
X-PUBLISHED-TTL:P3D
REFRESH-INTERVAL:P3D
CALSCALE:GREGORIAN
BEGIN:VEVENT
DTSTART:20151105T200000Z
DTEND:20151106T000000Z
X-MICROSOFT-CDO-ALLDAYEVENT:FALSE
SUMMARY:Mega Business Expo at Gillette Stadium
DESCRIPTION:Exhibitor Space (few more booths available) 2015 PDF\n\nSome Sponsorship open 2015 PDF\n\n\n\nWHY ATTEND? Come on out and meet Local Business at the MegaBusiness Expo\, at Gillette Stadium on Thursday\, November 5\, 2015   \n\n\n\nSUPPORT LOCAL BUSINESS   Attend A FREE Multi-Chamber Business Expo Fun\, Food and Celebrities   \n\n~ All While Supporting Local Business\n\n~ Build New Business Connections\n\n~ Experience Gillette Stadium and Much More!\n\n~ FREE to attend\, support Local Business!\n\nNovember 5\, 2015  from 3:00pm - 7:00pm at Gillette Stadium  (Rte 1 Foxboro - Putnam Club East) Parking Map and Directions to the Right\n\n\n\nExhibitor Hours: 3:00   7:00pm  Open to the Public! \n\n\n\nThis is a Multi Chamber Event organized by\;    \n\nTri-Town Chamber of Commerce\, Neponset Valley\, Milford Area\, United Regional and Taunton Chambers of Commerce\n\n\n\n\n\nExhibition Information below\n\nShowcase your business to consumers from over 40 communities at the MegaBusiness EXPO\, a collaborative of the Tri-Town\, Neponset Valley\, Milford Area\, Taunton and United Chamber's of Commerce\, on Thursday\, November 5\, 2015 at the exclusive Putnam Club at Gillette Stadium.\n\n \n\nWhy should you Exhibit?\n\n\n	Access to over 1000 consumers from 40 communities\n	Great value on investment at only $375.00 (this early bird ends September 19)\n	After September 19th Chamber Member Exhibitor Booths will be $425\n	Amazing location - Get a chance to be in the exclusive Putnam Club with stunning views of Gillette Stadium\n	Professional marketing\, booth set up and signage - We do the work\, you show up!\n	Build relationships with area service providers and businesses\n	Grab some giveaways and register for great prizes\n	Taste cuisine from area restaurants during our Networking Hour\n\n Your registration includes:\n\n\n	Professional signage               \n	Booth (8x6) with pipe and draping\, table\, 2 chairs\, linens\, trash can all set up before you arrive                                   \n	Marketing in five chamber areas\n	Basic WiFi for emails and surfing\n	Special networking and training seminars for exhibitors in September (date TBD)\n	Prizes\, food\, fun and amazing views of the stadium-don't miss it! Sign up today. Booths are assigned on a first-come\, first-serve basis.\n\n\n \n\nPlease contact Kara Griffin or Ruthie Briggs office@tri-townchamber.org  or 508-339-5655 for more information
X-ALT-DESC;FMTTYPE=text/html:<span style="font-size:14px\;"><span style="font-family:arial\;"><strong>Exhibitor Space (few more booths available) 2015 <a href="http://cloud.chambermaster.com/userfiles/UserFiles/chambers/1730/File/Tri-TownSignUp20151.pdf">PDF</a><br />\nSome Sponsorship open&nbsp\;2015 <a href="http://cloud.chambermaster.com/userfiles/UserFiles/chambers/1730/File/Expo15SponsorshipOpps.pdf">PDF</a></strong><br />\n<br />\n<strong>WHY ATTEND? </strong>Come on out and meet Local Business at the MegaBusiness Expo\, at Gillette Stadium on Thursday\, November 5\, 2015 &nbsp\;&nbsp\;</span><br />\n<br />\n<strong>SUPPORT LOCAL BUSINESS</strong> &nbsp\;&nbsp\;Attend A FREE Multi-Chamber Business Expo Fun\, Food and Celebrities&nbsp\;&nbsp\;&nbsp\;<br />\n~ All While Supporting Local Business<br />\n~ Build New Business Connections<br />\n~ Experience Gillette Stadium and Much More!<br />\n~ FREE to attend\, support Local Business!<br />\nNovember 5\, 2015 &nbsp\;from&nbsp\;3:00pm - 7:00pm&nbsp\;at Gillette Stadium &nbsp\;(Rte 1 Foxboro - Putnam Club East)&nbsp\;Parking Map and Directions to the Right</span><br />\n<br />\n<span style="font-family: arial\; font-size: 14px\; line-height: 22.3999996185303px\;">Exhibitor Hours:&nbsp\;</span><strong style="font-family: arial\; font-size: 14px\; line-height: 22.3999996185303px\;">3:00 &ndash\; 7:00pm&nbsp\; Open to the Public!&nbsp\;</strong><br style="font-family: arial\; font-size: 14px\; line-height: 22.3999996185303px\;" />\n<br />\n<em style="font-family: arial\; font-size: 14px\; line-height: 22.3999996185303px\;">This is a Multi Chamber Event organized by\; &nbsp\; &nbsp\;</em><br />\n<span style="font-size:14px\;"><span style="font-family: arial\; line-height: 22.3999996185303px\;"><strong>Tri-Town Chamber of Commerce</strong>\,&nbsp\;</span></span><span style="font-family:arial\;">Neponset<span style="line-height: 22.3999996185303px\;">&nbsp\;Valley\, Milford Area\, United Regional and Taunton Chambers of Commerce</span></span><br style="font-family: arial\; font-size: 14px\; line-height: 22.3999996185303px\;" />\n<br />\n<br />\n<em><strong>Exhibition Information below</strong></em><br />\n<span style="font-size:14px\;"><span style="font-family:arial\;">Showcase your business to consumers from over 40 communities at the MegaBusiness EXPO\, a collaborative of the Tri-Town\,&nbsp\;Neponset Valley\, Milford Area\, Taunton and United Chamber&#39\;s of Commerce\, on Thursday\, November 5\, 2015 at the exclusive Putnam Club at Gillette Stadium.</span><br />\n&nbsp\;<br />\n<strong>Why should you Exhibit?</strong></span>\n\n<ul>\n	<li><span style="font-size:14px\;">Access to over 1000 consumers from 40 communities</span></li>\n	<li><span style="font-size:14px\;">Great value on investment at only $375.00 (<strong>this early bird ends September 19</strong>)</span></li>\n	<li><span style="font-size:14px\;">After September 19th&nbsp\;Chamber Member Exhibitor Booths will be $425</span></li>\n	<li><span style="font-size:14px\;">Amazing location - Get a chance to be in the exclusive Putnam Club with stunning views of Gillette Stadium</span></li>\n	<li><span style="font-size:14px\;">Professional marketing\, booth set up and signage - We do the work\, you show up!</span></li>\n	<li><span style="font-size:14px\;">Build relationships with area service providers and businesses</span></li>\n	<li><span style="font-size:14px\;">Grab some giveaways and register for great prizes</span></li>\n	<li><span style="font-size:14px\;">Taste cuisine from area restaurants during our Networking Hour</span></li>\n</ul>\n<span style="font-size:14px\;"> <em><strong>Your registration includes:</strong></em></span>\n\n<ul>\n	<li><span style="font-size:14px\;">Professional signage&nbsp\;&nbsp\;&nbsp\;&nbsp\;&nbsp\;&nbsp\;&nbsp\;&nbsp\;&nbsp\;&nbsp\;&nbsp\;&nbsp\;&nbsp\;&nbsp\;&nbsp\;</span></li>\n	<li><span style="font-size:14px\;">Booth (8x6) with pipe and draping\, table\, 2 chairs\, linens\, trash can all set up before you arrive&nbsp\;&nbsp\;&nbsp\;&nbsp\;&nbsp\;&nbsp\;&nbsp\;&nbsp\;&nbsp\;&nbsp\;&nbsp\;&nbsp\;&nbsp\;&nbsp\;&nbsp\;&nbsp\;&nbsp\;&nbsp\;&nbsp\;&nbsp\;&nbsp\;&nbsp\;&nbsp\;&nbsp\;&nbsp\;&nbsp\;&nbsp\;&nbsp\;&nbsp\;&nbsp\;&nbsp\;&nbsp\;&nbsp\;&nbsp\;&nbsp\;</span></li>\n	<li><span style="font-size:14px\;">Marketing in five chamber areas</span></li>\n	<li><span style="font-size:14px\;">Basic WiFi for emails and surfing</span></li>\n	<li><span style="font-size:14px\;">Special networking and training seminars for exhibitors in September (date TBD)</span></li>\n	<li><span style="font-size:14px\;">Prizes\, food\, fun and amazing views of the stadium-don&#39\;t miss it! Sign up today. Booths are assigned on a first-come\, first-serve basis.</span></li>\n</ul>\n\n<div><span style="font-size:14px\;">&nbsp\;<br />\nPlease contact Kara Griffin or Ruthie Briggs <a href="mailto:office@tri-townchamber.org">office@tri-townchamber.org</a>&nbsp\; or 508-339-5655 for more information </span></div>\n
LOCATION:Gillette Stadium\, Rte 1\, Foxboro MA Putnam Club East (entrance is E3 or E4) Elevator or Escalator Avaialble Parking in (eastside Lot) see Map FROM THE NORTH: Take Interstate 95 South to Exit 9 onto Route 1 South. Merge onto Route 1 South and follow for approximately 3 miles until you see Gillette Stadium at Patriot Place on your left. Turn left underneath the bridge onto P1 Drive. Continue along P1 Drive\, which circles the Stadium. There will be signs indicating the E3 EMC Suite and E4 Putnam Club entrances. Lighted electronic boards and directional signs will direct you to your event. To reach your entrance\, proceed through the Security Checkpoint Booth and take the second right turn into the parking lot. FROM THE SOUTH: Take Interstate 95 North to Interstate 495 North: Exit 14A onto Route 1 North. Follow Route 1 North approximately 4 miles to Gillette Stadium at Patriot Place (on the right). Proceed past entrances on this side of the Stadium. As you drive by the Stadium\, keep right and follow the downward sloping ramp onto P2 Drive\, where you will merge onto the road circling the Stadium (P1 Drive). There will be signs indicating the E3 EMC Suite and E4 Putnam Club entrances. Lighted electronic boards and directional signs will direct you to your event. To reach your entrance\, proceed through the Security Checkpoint Booth and take the second right turn into the parking lot.
UID:e.1730.1660
SEQUENCE:3
DTSTAMP:20260419T154638Z
URL:https://www.tri-townchamber.org/events/details/mega-business-expo-at-gillette-stadium-11-05-2015-1660
END:VEVENT

END:VCALENDAR
