BEGIN:VCALENDAR
VERSION:2.0
PRODID:-//ChamberMaster//Event Calendar 2.0//EN
METHOD:PUBLISH
X-PUBLISHED-TTL:P3D
REFRESH-INTERVAL:P3D
CALSCALE:GREGORIAN
BEGIN:VEVENT
DTSTART:20131114T200000Z
DTEND:20131115T000000Z
X-MICROSOFT-CDO-ALLDAYEVENT:FALSE
SUMMARY:Mega Business Expo
DESCRIPTION:We have 1 Booths left \n\nBecome an Exhibitor at the 2013 Mega Business Expo\, Give Your Business a Great Way to Grow!  Reserve your space TODAY by phoning 508-339-5655 or emailing office@tri-townchamber.org    \n\n\n\nThis FREE event is open to the public to attend.  If you're interested in buying local to support the community\, this is a great place to meet your local business owners in person.  Learn what's new and get your questions answered by experts in your neighborhood. Over 120 different exhibiting businesses will be on hand!\n\n\n\nTri-Town Chamber EXPO Sponsors\n\n~ Mansfield Bank\n\n~ Brigham & Women's / Mass General Health Care Center\n\n~ Barrows Insurance Agency\n\n~ OfficeLand\n\n\n\nAs of November 6 we have Over 120 Exhibitors Signed Up!\n\nbelow is a list of the Tri-Town Chamber Members who have signed up to Exhibit:\n\nAmerican Window Film\, Inc\n\nAxion Business Technologies/RPB Systems\n\nBarrie Bruce Golf Schools\n\nBarrows Insurance Agency\, Inc\n\nBetro and Company\, P.C.\n\nBrigham & Women's / Mass general Health Care Center\n\nBSE Print Solutions\n\nBSU Evening Program\n\nCorporate IT Solutions\n\nDMacVoice & Media\n\nDoolittle Home\n\nEdible Arrangements\n\nFASTSIGNS\n\nGlobeDirect\n\nHarborOne Bank\n\nHockomock Area YMCA\n\nHoliday Inn - Mansfield/Foxboro\n\nHome Instead Senior Care\n\nJack Conway Realtors\n\nJudy's Flowers\n\nLaw Offices of Peter T. Clark\, P.C.\n\nMansfield Bank\n\nMarketing Unzipped\n\nMarketing Your Business on the Web\n\nMorin's Fine Catering\n\nNorth Easton Savings Bank\n\nNorwood Hospital\n\nOfficeland\n\nPatriot Place\n\nPaychex\n\nPower 3 Communications\n\nRed Roof Inn\n\nReliv Int'l\n\nRenaissance Hotel & Spa\n\nRhode Island Business Journal\n\nRussell Morin Fine Catering\n\nSEED Corporation\n\nSharkansky LLP\n\nSouthCoast Energy Challenge\n\nSue's Green Earth Cleaners\n\nTD Bank\n\nThe Alpha Group\n\nViridian Energy\n\nWicked Good Chiropractic\n\nYale Appliance & Lighting\n\n\n\nThe 2013 Mega Business Expo is produced in partnership with the Tri-Town Chamber of Commerce\, Neponset Valley Chamber of Commerce\, and Milford Chamber of Commerce.
X-ALT-DESC;FMTTYPE=text/html:<span style="font-size:14px\;"><span style="font-family: arial\;"><span style="color:#696969\;"><strong>We have 1 Booths left&nbsp\;<br />\nBecome an Exhibitor at the 2013 Mega Business Expo\,&nbsp\;Give Your Business a Great Way to Grow!&nbsp\;&nbsp\;</strong>Reserve your space TODAY by phoning 508-339-5655 or emailing&nbsp\;</span><a href="mailto:office@tri-townchamber.org"><span style="color:#696969\;"><strong>office@tri-townchamber.org</strong></span></a><span style="color:#696969\;">&nbsp\; &nbsp\;&nbsp\;</span></span><br />\n<br />\n<span style="font-family: arial\;">This FREE event is open to the public to attend.&nbsp\; If you&rsquo\;re interested in buying local to support the community\, this is a great place to meet your local business owners in person.&nbsp\; Learn what&rsquo\;s new and get your questions answered by experts in your neighborhood. Over 120 different exhibiting businesses will be on hand!</span><br />\n<br />\n<strong>Tri-Town Chamber EXPO Sponsors</strong><br />\n<strong>~ Mansfield Bank<br />\n~ Brigham &amp\; Women&#39\;s / Mass General Health Care Center<br />\n~ Barrows Insurance Agency<br />\n~ OfficeLand</strong><br />\n<br />\nAs of November 6 we have Over 120 Exhibitors Signed Up!<br />\n<em><strong>below is a list of the Tri-Town Chamber Members who have signed up to Exhibit<u>:</u></strong></em><br />\nAmerican Window Film\, Inc<br />\nAxion Business Technologies/RPB Systems<br />\nBarrie Bruce Golf Schools<br />\nBarrows Insurance Agency\, Inc<br />\nBetro and Company\, P.C.<br />\nBrigham &amp\; Women&rsquo\;s / Mass general Health Care Center<br />\nBSE Print Solutions<br />\nBSU Evening Program<br />\nCorporate IT Solutions<br />\nDMacVoice &amp\; Media<br />\nDoolittle Home<br />\nEdible Arrangements<br />\nFASTSIGNS<br />\nGlobeDirect<br />\nHarborOne Bank<br />\nHockomock Area YMCA<br />\nHoliday Inn - Mansfield/Foxboro<br />\nHome Instead Senior Care<br />\nJack Conway Realtors<br />\nJudy&#39\;s Flowers<br />\nLaw Offices of Peter T. Clark\, P.C.<br />\nMansfield Bank<br />\nMarketing Unzipped<br />\nMarketing Your Business on the Web<br />\nMorin&#39\;s Fine Catering<br />\nNorth Easton Savings Bank<br />\nNorwood Hospital<br />\nOfficeland<br />\nPatriot Place<br />\nPaychex<br />\nPower 3 Communications<br />\nRed Roof Inn<br />\nReliv Int&#39\;l<br />\nRenaissance Hotel &amp\; Spa<br />\nRhode Island Business Journal<br />\nRussell Morin Fine Catering<br />\nSEED Corporation<br />\nSharkansky LLP<br />\nSouthCoast Energy Challenge<br />\nSue&#39\;s Green Earth Cleaners<br />\nTD Bank<br />\nThe Alpha Group<br />\nViridian Energy<br />\nWicked Good Chiropractic<br />\nYale Appliance &amp\; Lighting<br />\n<br />\n<span style="font-family: arial\;"><em>The 2013 Mega Business Expo is produced in partnership with the </em></span><span style="color:#000000\;"><span style="font-family: arial\;"><em><strong>Tri-Town Chamber of Commerce</strong></em></span></span><span style="color:#696969\;"><span style="font-family: arial\;"><em>\, Neponset Valley Chamber of Commerce\, and Milford Chamber of Commerce.</em></span></span></span>
LOCATION:Gillette Stadium Foxboro All Attendees can park in P3 or P4 and enter the Putnam Club entrance\; the escalator will carry you to the exhibition halls!
UID:e.1730.12
SEQUENCE:3
DTSTAMP:20260421T095751Z
URL:https://www.tri-townchamber.org/events/details/mega-business-expo-11-14-2013-12
END:VEVENT

END:VCALENDAR
