BEGIN:VCALENDAR
VERSION:2.0
PRODID:-//ChamberMaster//Event Calendar 2.0//EN
METHOD:PUBLISH
X-PUBLISHED-TTL:P3D
REFRESH-INTERVAL:P3D
CALSCALE:GREGORIAN
BEGIN:VEVENT
DTSTART:20130719T120000Z
DTEND:20130719T133000Z
X-MICROSOFT-CDO-ALLDAYEVENT:FALSE
SUMMARY:Maximizing LinkedIn
DESCRIPTION:Maximizing LinkedIn - Businesses and job seekers will get all their LinkedIn questions answered in this 90 minute workshop.  We cover\; creating an optimized profile\, building quality connections\, communicating effectively\, and how to do it without spending all day on the LinkedIn.  Depending on the group\, we will also cover more advanced topics such as company pages\, advanced searches\, and groups. This class is open to beginners as well as experienced LinkedIn users.  Content will be adjusted to meet the group's experience level.
X-ALT-DESC;FMTTYPE=text/html:Maximizing LinkedIn -&nbsp\;Businesses and job seekers will get all their LinkedIn questions answered in this 90 minute workshop.&nbsp\; We cover\; creating an optimized profile\, building quality connections\, communicating effectively\, and how to do it without spending all day on the LinkedIn.&nbsp\; Depending on the group\, we will also cover more advanced topics such as company pages\, advanced searches\, and groups. This class is open to beginners as well as experienced LinkedIn users.&nbsp\; Content will be adjusted to meet the group&rsquo\;s experience level.&nbsp\;<br />\n
LOCATION:At the Tri-Town Chamber of Commerce in the Deutsche Bank Championship Conference Room. The Chamber is located within Mansfield Crossing shopping Center\, our building is back behind Kohls Department Store.
UID:e.1730.14
SEQUENCE:3
DTSTAMP:20260421T143308Z
URL:https://www.tri-townchamber.org/events/details/maximizing-linkedin-07-19-2013-14
END:VEVENT

END:VCALENDAR
