BEGIN:VCALENDAR
VERSION:2.0
PRODID:-//ChamberMaster//Event Calendar 2.0//EN
METHOD:PUBLISH
X-PUBLISHED-TTL:P3D
REFRESH-INTERVAL:P3D
CALSCALE:GREGORIAN
BEGIN:VEVENT
DTSTART:20150717T120000Z
DTEND:20150717T133000Z
X-MICROSOFT-CDO-ALLDAYEVENT:FALSE
SUMMARY:Maximizing LinkedIn
DESCRIPTION:Maximizing LinkedIn\n\nWhen was the last time you touched base with your connections on LinkedIn?\n\nDo you even know who you are connected to?\nThis workshop is a real-world guide to understanding LinkedIn and how to utilize it as a proactive business tool.  Whether you use it for prospecting\, staying in touch or marketing\, LinkedIn can help you grow your business and create lifelong customers.\n\nThese workshops are interactive and participants are encouraged to bring their questions. \n\n \n\nSome topics that will be covered:\n\n\n	How to use your profile to attract the right connections.\n	Why keywords are so important on LinkedIn.\n	How to build a connection list that is an active database for your business.\n	How to use LinkedIn as a Customer Relationship Management (CRM) tool.\n	How to use LinkedIn as a business research tool.\n	Why LinkedIn can help your business marketing efforts.\n\nIf you are just getting started with LinkedIn\, are already using it\, or have been to this workshop before\, guaranteed you will walk away learning something new.\n\n \n\nAbout Jen Vondenbrink\n\nJen Vondenbrink\, Social Media Manager for Tri-Town Chamber of Commerce and owner of LS Business Solutions\, has been providing social media education to the Tri-Town area since 2008.  Jen helps businesses understand how to integrate social media into their marketing efforts one step at a time.
X-ALT-DESC;FMTTYPE=text/html:<strong style="line-height: 20.7999992370605px\;">Maximizing LinkedIn</strong>\n\n<div style="line-height: 20.7999992370605px\; margin-left: 40px\;">When was the last time you touched base with your connections on LinkedIn?<br />\nDo you even know who you are connected to?</div>\n<span style="line-height: 20.7999992370605px\;">This workshop is a real-world guide to understanding LinkedIn and how to utilize it as a proactive business tool.&nbsp\; Whether you use it for prospecting\, staying in touch or marketing\, LinkedIn can help you grow your business and create lifelong customers.</span><br style="line-height: 20.7999992370605px\;" />\n<span style="line-height: 20.7999992370605px\;">These workshops are interactive and participants are encouraged to bring their questions.&nbsp\;</span><br style="line-height: 20.7999992370605px\;" />\n<span style="line-height: 20.7999992370605px\;">&#8203\;</span><br style="line-height: 20.7999992370605px\;" />\n<em style="line-height: 20.7999992370605px\;"><strong>Some topics that will be covered:</strong></em>\n\n<ul style="line-height: 20.7999992370605px\;">\n	<li>How to use your profile to attract the right connections.</li>\n	<li>Why keywords are so important on LinkedIn.</li>\n	<li>How to build a connection list that is an active database for your business.</li>\n	<li>How to use LinkedIn as a Customer Relationship Management (CRM) tool.</li>\n	<li>How to use LinkedIn as a business research tool.</li>\n	<li>Why LinkedIn can help your business marketing efforts.</li>\n</ul>\n<span style="line-height: 20.7999992370605px\;">If you are just getting started with LinkedIn\, are already using it\, or have been to this workshop before\, guaranteed you will walk away learning something new.</span><br style="line-height: 20.7999992370605px\;" />\n<span style="line-height: 20.7999992370605px\;">&nbsp\;</span><br style="line-height: 20.7999992370605px\;" />\n<em style="line-height: 20.7999992370605px\;"><strong>About Jen&nbsp\;Vondenbrink</strong><br />\nJen&nbsp\;Vondenbrink\, Social Media Manager for Tri-Town Chamber of Commerce and owner of LS Business Solutions\, has been providing social media education to the Tri-Town area since 2008.&nbsp\; Jen helps businesses understand how to integrate social media into their marketing efforts one step at a time.</em>
LOCATION:at the Tri-Town Chamber of Commerce 280 School St.\, Building L100 Seminar in the Davis Financial Conference Room
UID:e.1730.1091
SEQUENCE:3
DTSTAMP:20260420T000310Z
URL:https://www.tri-townchamber.org/events/details/maximizing-linkedin-07-17-2015-1091
END:VEVENT

END:VCALENDAR
