BEGIN:VCALENDAR
VERSION:2.0
PRODID:-//ChamberMaster//Event Calendar 2.0//EN
METHOD:PUBLISH
X-PUBLISHED-TTL:P3D
REFRESH-INTERVAL:P3D
CALSCALE:GREGORIAN
BEGIN:VEVENT
DTSTART:20140919T120000Z
DTEND:20140919T133000Z
X-MICROSOFT-CDO-ALLDAYEVENT:FALSE
SUMMARY:Mastering LinkedIn
DESCRIPTION:Ring in the New Year by learning more about how LinkedIn can help grow your business.  Join Jen Vondenbrink\, our social media expert and owner of LS Business Solutions\, as she explores LinkedIn answering questions such as why is your LinkedIn profile so important\, who should you to connect to and why\, and other interesting features of LinkedIn. Jen Vondenbrink has helped hundreds of members over the last 6 years with her LinkedIn and Facebook Workshops here at the Tri-Town Chamber of Commerce. This workshop is open to all levels.
X-ALT-DESC;FMTTYPE=text/html:Ring in the New Year by learning more about how LinkedIn can help grow your business. &nbsp\;Join Jen Vondenbrink\, our social media expert and owner of LS Business Solutions\, as she explores LinkedIn answering questions such as why is your LinkedIn profile so important\, who should you to connect to and why\, and other interesting features of LinkedIn. Jen Vondenbrink has helped hundreds of members over the last 6 years with her LinkedIn and Facebook Workshops here at the Tri-Town Chamber of Commerce. This workshop is open to all levels. &nbsp\;
LOCATION:Tri-Town Chamber of Commerce\, Barrows Insurance Agency Conference Room
UID:e.1730.834
SEQUENCE:3
DTSTAMP:20260420T163959Z
URL:https://www.tri-townchamber.org/events/details/mastering-linkedin-09-19-2014-834
END:VEVENT

END:VCALENDAR
