BEGIN:VCALENDAR
VERSION:2.0
PRODID:-//ChamberMaster//Event Calendar 2.0//EN
METHOD:PUBLISH
X-PUBLISHED-TTL:P3D
REFRESH-INTERVAL:P3D
CALSCALE:GREGORIAN
BEGIN:VEVENT
DTSTART:20140326T123000Z
DTEND:20140326T143000Z
X-MICROSOFT-CDO-ALLDAYEVENT:FALSE
SUMMARY:Marketing Strategies to Grow Your Business
DESCRIPTION:Marketing Strategies to Grow Your Business\n\nWith seconds to engage a potential customer with your marketing message\, having the right message and delivery methods can make the difference between obtaining new customers or losing them to your competition.  At this work shop you will learn to:\n\n\n	Create a website that is graphically appealing and easy to navigate\n	Ensure your website works on all mobile devices\n	Provide content that is engaging to potential customers\n	Get your website listed high on search engines\, social media sites\, search directories\, and pay-per-click sites\n	Attract visitors to return to your website again and again\n\n  \n\n Presenters:\n\nDoug Arnold: Principal\, The Graphics Solutions Group\n\nMarcia Szymanski: Professional Freelance Business Writer\n\nJames Conant: Principal\, USA Marketing Associates
X-ALT-DESC;FMTTYPE=text/html:<span style="font-size:14px\;"><strong>Marketing Strategies to Grow Your Business</strong><br />\nWith seconds to engage a potential customer with your marketing message\, having the right message and delivery methods can make the difference between obtaining new customers or losing them to your competition.&nbsp\; <em>At this work shop you will learn to:</em></span>\n\n<ul>\n	<li><span style="font-size:14px\;">Create a website that is graphically appealing and easy to navigate</span></li>\n	<li><span style="font-size:14px\;">Ensure your website works on all mobile devices</span></li>\n	<li><span style="font-size:14px\;">Provide content that is engaging to potential customers</span></li>\n	<li><span style="font-size:14px\;">Get your website listed high on search engines\, social media sites\, search directories\, and pay-per-click sites</span></li>\n	<li><span style="font-size:14px\;">Attract visitors to return to your website again and again</span></li>\n</ul>\n<span style="font-size:14px\;"> &nbsp\;<br />\n<strong><em>&nbsp\;Presenters:</em></strong><br />\nDoug Arnold: <em>Principal\, The Graphics Solutions Group</em><br />\nMarcia Szymanski: <em>Professional Freelance Business Writer</em><br />\nJames Conant: <em>Principal\, USA Marketing Associates</em></span>
LOCATION:HarborOne U 131 Copeland Drive\, Mansfield MA
UID:e.1730.975
SEQUENCE:3
DTSTAMP:20260421T015256Z
URL:https://www.tri-townchamber.org/events/details/marketing-strategies-to-grow-your-business-03-26-2014-975
END:VEVENT

END:VCALENDAR
