BEGIN:VCALENDAR
VERSION:2.0
PRODID:-//ChamberMaster//Event Calendar 2.0//EN
METHOD:PUBLISH
X-PUBLISHED-TTL:P3D
REFRESH-INTERVAL:P3D
CALSCALE:GREGORIAN
BEGIN:VEVENT
DTSTART:20150511T120000Z
DTEND:20150511T130000Z
X-MICROSOFT-CDO-ALLDAYEVENT:FALSE
SUMMARY:Marketing Meetings at the Chamber
DESCRIPTION:Looking to get creative and do some brainstorming\, while assisting the Chamber?\n\n\n\nA few years back we had a marketing committee that met a few times to do some brainstorming about how the Chamber markets itself\, and the ideas that stemmed from that were very effective.\n\n\n\nWe are looking to get some creative minds to assist the Chamber with a couple initiatives\;\n\n1. the first is our Community Directory\, which for the first time last year was handled in house and with our Chamber Members. The Directory has proven to be a great resource for community\, to visitors and to our businesses.  I would like to get some opinions on how we can enhance this directory (content\, photos\, what ever that may be) and get a jump on content for the next Directory.\n\n\n\n2. We have had request from town offices as well as area branches for a small marketing piece to be given to new business about the benefits of the Chamber.  This to be used as a quick tool to get new business introduced to the Chamber.\n\n\n\nIf you have some time to meet I would love to hear your ideas.\n\nShooting for a meeting on Monday\, May 11th at 8:00am here at the Chamber.\n\n\n\nPlease let me know if you are interested.\n\nThank you\, kara griffin
X-ALT-DESC;FMTTYPE=text/html:Looking to get creative and do some brainstorming\, while assisting the Chamber?<br />\n<br />\nA few years back we had a marketing committee that met a few times to do some brainstorming about how the Chamber markets itself\, and the ideas that stemmed from that were very effective.<br />\n<br />\n<em>We are looking to get some creative minds to assist the Chamber with a couple initiatives\;</em><br />\n1. the first is our <strong>Community Directory</strong>\, which for the first time last year was handled in house and with our Chamber Members. The Directory has proven to be a great resource for community\, to visitors and to our businesses. &nbsp\;I would like to get some opinions on how we can enhance this directory (content\, photos\, what ever that may be) and get a jump on content for the next Directory.<br />\n<br />\n2. We have had request&nbsp\;from town offices as well as area branches for a <strong>small marketing piece</strong> to be given to new business about the benefits of the Chamber. &nbsp\;This to be used as a quick tool to get new business introduced to the Chamber.<br />\n<br />\nIf you have some time to meet I would love to hear your ideas.<br />\nShooting for a meeting on&nbsp\;Monday\, May 11th at 8:00am here at the Chamber.<br />\n<br />\nPlease let me know if you are interested.<br />\nThank you\, kara griffin<br />\n&nbsp\;
LOCATION:at the Chamber
UID:e.1730.1590
SEQUENCE:3
DTSTAMP:20260420T015947Z
URL:https://www.tri-townchamber.org/events/details/marketing-meetings-at-the-chamber-05-11-2015-1590
END:VEVENT

END:VCALENDAR
