BEGIN:VCALENDAR
VERSION:2.0
PRODID:-//ChamberMaster//Event Calendar 2.0//EN
METHOD:PUBLISH
X-PUBLISHED-TTL:P3D
REFRESH-INTERVAL:P3D
CALSCALE:GREGORIAN
BEGIN:VEVENT
DTSTART:20150331T130000Z
DTEND:20150331T143000Z
X-MICROSOFT-CDO-ALLDAYEVENT:FALSE
SUMMARY:Market Your Business with Chamber Website
DESCRIPTION:Did you know the Chamber helps members like you market their business every day?\n\nDo you know how to take advantage of this Chamber Benefit?\n\n \n\nWe average over 1\,000 hits per day on the Tri-Town Chamber website's online business directory.  These are people looking for businesses like you! \n\n \n\nJoin us and learn how you can maximize your exposure on the Chamber Website and let it drive traffic to your door. This hands on session will teach you how to add: \n\n\n	Hours of Operation\n	Directions / Location Information\n	Brief 200 Word Description on your Business\n	Eight Key Words (these help your business to be found when someone does a search.)\n	Member to Member Deals\n	Job Postings       \n	Add Hot Deals\n	Add Events \n\n We're wireless so please bring your laptop or tablet so we can help you.  From Website to Relationship Building Tips\, this Session is for you\n\n\n\nFor added support in this session Monica Bentley of Simple Wizardry will be assisting as well. Thank you Monica!\n\nMonica is the founder of Simple Wizardry\, she works with service business owners to increase visibility for their company by optimizing their website and developing an internet marketing strategy they're comfortable with.
X-ALT-DESC;FMTTYPE=text/html:<span style="color:#696969\;"><span style="font-size:14px\;"><strong>Did you know the Chamber helps members like you market their business every day?</strong><br />\n<strong>Do you know how to take advantage of this Chamber Benefit?</strong><br />\n&nbsp\;<br />\nWe average over <strong>1\,000</strong> hits per day on the Tri-Town Chamber website&rsquo\;s online business directory.&nbsp\; These are people looking for businesses like you!&nbsp\;<br />\n&nbsp\;<br />\nJoin us and learn how you can maximize your exposure on the Chamber Website and let it drive traffic to your door. This hands on session will teach you how to add: </span></span>\n\n<ul>\n	<li><span style="color:#696969\;"><span style="font-size:14px\;">Hours of Operation</span></span></li>\n	<li><span style="color:#696969\;"><span style="font-size:14px\;">Directions / Location Information</span></span></li>\n	<li><span style="color:#696969\;"><span style="font-size:14px\;">Brief 200 Word Description on your Business</span></span></li>\n	<li><span style="color:#696969\;"><span style="font-size:14px\;">Eight Key Words <em>(these help your business to be found when someone does a search.)</em></span></span></li>\n	<li><span style="color:#696969\;"><span style="font-size:14px\;">Member to Member Deals</span></span></li>\n	<li><span style="color:#696969\;"><span style="font-size:14px\;">Job Postings&nbsp\;&nbsp\;&nbsp\;&nbsp\;&nbsp\;&nbsp\; </span></span></li>\n	<li><span style="color:#696969\;"><span style="font-size:14px\;">Add Hot Deals</span></span></li>\n	<li><span style="color:#696969\;"><span style="font-size:14px\;">Add Events<span style="line-height: 1.6\;">&nbsp\;</span></span></span></li>\n</ul>\n<span style="color:#696969\;"> <span style="font-size:14px\;"><strong>We&rsquo\;re wireless so please bring your laptop or tablet so we can help you. &nbsp\;From Website to Relationship Building Tips\, this Session is for you</strong><br />\n<br />\nFor added support in this session <strong>Monica Bentley of Simple Wizardry</strong> will be assisting as well. Thank you Monica!</span><br />\n<em><span style="font-size:14px\;">Monica is the founder of Simple Wizardry\, she works with service business owners to increase visibility for their company by optimizing their website and developing an internet marketing strategy they&rsquo\;re comfortable with.&nbsp\;</span></em></span><br />\n<br />\n&nbsp\;
LOCATION:at the Chamber Offices in the Davis Financial Conference Room
UID:e.1730.1275
SEQUENCE:3
DTSTAMP:20260420T064526Z
URL:https://www.tri-townchamber.org/events/details/market-your-business-with-chamber-website-03-31-2015-1275
END:VEVENT

END:VCALENDAR
