BEGIN:VCALENDAR
VERSION:2.0
PRODID:-//ChamberMaster//Event Calendar 2.0//EN
METHOD:PUBLISH
X-PUBLISHED-TTL:P3D
REFRESH-INTERVAL:P3D
CALSCALE:GREGORIAN
BEGIN:VEVENT
DTSTART:20140513T120000Z
DTEND:20140513T133000Z
X-MICROSOFT-CDO-ALLDAYEVENT:FALSE
SUMMARY:Market Your Business Using the Chamber
DESCRIPTION:Did you know the Chamber helps members like you market their business every day?\n\nDo you know how to take advantage of this Chamber Benefit?\n\n \n\n \n\nWe average over 1\,000 hits per day on the Tri-Town Chamber website's online business directory.  These are people looking for businesses like you!  \n\n \n\nJoin us and learn how you can maximize your exposure on the Chamber Website and let it drive traffic to your door. This hands on session will teach you how to add: Hours of Operation\n\n\n	Directions / Location Information\n	Brief 200 Word Description on your Business\n	Eight Key Words (these help your business to be found when someone does a search.)\n	Member to Member Deals\n	Job Postings       \n	Add Hot Deals\n	Add Events\n\n \n\nWe're wireless so please bring your laptop or tablet so we can help you.\n\n \n\nFrom Website to Relationship Building Tips\, this Session is for you
X-ALT-DESC;FMTTYPE=text/html:<strong>Did you know the Chamber helps members like you market their business every day?</strong><br />\n<strong>Do you know how to take advantage of this Chamber Benefit?</strong><br />\n&nbsp\;<br />\n&nbsp\;<br />\n<span style="background-position:initial initial\;background-repeat:initial initial\;"><span style="color:#222222\;">We </span></span><span style="background-position:initial initial\;background-repeat:initial initial\;">average <span style="color:#222222\;">over </span><strong>1\,000</strong><span style="color:#222222\;"> hits per day on the Tri-Town Chamber website&rsquo\;s online business directory.&nbsp\; </span>These are people looking for<span style="color:#222222\;"> business</span>es<span style="color:#222222\;"> like you!&nbsp\; </span></span><br />\n&nbsp\;<br />\n<span style="background-position:initial initial\;background-repeat:initial initial\;">Join us and learn how you can maximize your exposure on the Chamber Website and let it drive traffic to your door. <span style="color:#222222\;">This </span>hands on<span style="color:#222222\;"> session </span>will teach you how to add: <span style="color:#222222\;">Hours of Operation</span></span>\n\n<ul>\n	<li><span style="background-position:initial initial\;background-repeat:initial initial\;"><span style="color:#222222\;">Directions / Location Information</span></span></li>\n	<li><span style="background-position:initial initial\;background-repeat:initial initial\;"><span style="color:#222222\;">Brief 200 Word Description on your Business</span></span></li>\n	<li><span style="background-position:initial initial\;background-repeat:initial initial\;"><span style="color:#222222\;">Eight Key Words <em>(these help </em></span></span><em><span style="background-position:initial initial\;background-repeat:initial initial\;">your business to be found when someone does a search.<span style="color:#222222\;">)</span></span></em></li>\n	<li><span style="background-position:initial initial\;background-repeat:initial initial\;"><span style="color:#222222\;">Member to Member Deals</span></span></li>\n	<li><span style="background-position:initial initial\;background-repeat:initial initial\;"><span style="color:#222222\;">Job Postings&nbsp\;&nbsp\;&nbsp\;&nbsp\;&nbsp\;&nbsp\; </span></span></li>\n	<li><span style="background-position:initial initial\;background-repeat:initial initial\;"><span style="color:#222222\;">Add Hot Deals</span></span></li>\n	<li><span style="background-position:initial initial\;background-repeat:initial initial\;"><span style="color:#222222\;">Add Events</span></span></li>\n</ul>\n&nbsp\;<br />\n<span style="background-position:initial initial\;background-repeat:initial initial\;"><span style="color:#222222\;">We&rsquo\;re wireless so <strong>please bring your laptop or tablet </strong>so we can help you.</span></span><br />\n&nbsp\;<br />\n<span style="background-position:initial initial\;background-repeat:initial initial\;"><span style="color:#222222\;">From Website to Relationship Building Tips\, this Session is for you</span></span><br />\n&nbsp\;
LOCATION:at the Chamber Offices in the Barrows Insurance Agency Conference Room
UID:e.1730.998
SEQUENCE:3
DTSTAMP:20260420T222219Z
URL:https://www.tri-townchamber.org/events/details/market-your-business-using-the-chamber-05-13-2014-998
END:VEVENT

END:VCALENDAR
