BEGIN:VCALENDAR
VERSION:2.0
PRODID:-//ChamberMaster//Event Calendar 2.0//EN
METHOD:PUBLISH
X-PUBLISHED-TTL:P3D
REFRESH-INTERVAL:P3D
CALSCALE:GREGORIAN
BEGIN:VEVENT
DTSTART:20141005T140000Z
DTEND:20141005T160000Z
X-MICROSOFT-CDO-ALLDAYEVENT:FALSE
SUMMARY:Mansfield Rotary Club 2nd Annual 5K Road Race/Walk
DESCRIPTION:5k run/walk from Holiday Inn Mansfield on Hampshire St down Cabot Blvd and down Forbes Blvd and back. Professional timing\, free t-shirts for the first 100 entrants\, mile markers\, water stations\, post race refreshments\, and awards.
X-ALT-DESC;FMTTYPE=text/html:5k run/walk from Holiday Inn Mansfield on Hampshire St down Cabot Blvd and down Forbes Blvd and back. Professional timing\, free t-shirts for the first 100 entrants\, mile markers\, water stations\, post race refreshments\, and awards.
LOCATION:Holiday Inn - Mansfield
UID:e.1730.1033
SEQUENCE:3
DTSTAMP:20260420T150607Z
URL:https://www.tri-townchamber.org/events/details/mansfield-rotary-club-2nd-annual-5k-road-race-walk-10-05-2014-1033
END:VEVENT

END:VCALENDAR
