BEGIN:VCALENDAR
VERSION:2.0
PRODID:-//ChamberMaster//Event Calendar 2.0//EN
METHOD:PUBLISH
X-PUBLISHED-TTL:P3D
REFRESH-INTERVAL:P3D
CALSCALE:GREGORIAN
BEGIN:VEVENT
DTSTART:20150508T220000Z
DTEND:20150509T020000Z
X-MICROSOFT-CDO-ALLDAYEVENT:FALSE
SUMMARY:Mansfield Rotary Auction
DESCRIPTION:Rotary Club of Mansfield announces 12th Annual Auction.\n\nThe Rotary Club of Mansfield is holding the 12th Annual Auction at the Mansfield Holiday Inn\, on Friday\, May 8\, 2015.  Attendees will enjoy a live auction\, silent auction\, entertainment\, great food\, drinks and fun! \n\n\n\nThe theme this year will be Beach Party Theme\, dress as you like\, but if you dress up you will receive an extra ticket for our door prize FLAT SCREEN TV!\n\n\n\nOver the last eleven years the Mansfield Rotary Auctions have raised over $200\,000.00\, with 100% of these funds going to local\, regional national and international charities.  \n\n\n\nThe Mansfield Rotary has listened to the community\, and this year we have pledged to the following charities: \n\n	Alzheimer's Disease and Dementia Support at Mansfield Adult Day Health Center\n	Mansfield's Field of Honor Project\n	ShelterBox/Rotary International\n	 Scholarships for Mansfield\, Norton and Southeastern Regional Tech High Schools\n\n\n\n______________________________________\n\nRotary International is an organization of business and professional leaders united worldwide who provide humanitarian service\, encourage high ethical standards in all vocations\, and help build goodwill and peace in the world. In more than 160 countries worldwide\, approximately 1.2 million Rotarians belong to more than 30\,000 Rotary clubs. The Rotary Club of Mansfield consists of 23 members from the Mansfield and Norton area.\n\nIf you are interested in membership to the Mansfield\, Rotary please contact Colby Barrows\, Rotary Past President\, at 508-840-9243.\n\nThe Mansfield Rotary would like to thank you for your past and future support\, and be sure to save the date!!
X-ALT-DESC;FMTTYPE=text/html:<strong>Rotary Club of Mansfield announces 12th Annual Auction.</strong><br />\nThe Rotary Club of Mansfield is holding the 12th Annual Auction at the Mansfield Holiday Inn\, on Friday\, May 8\, 2015.&nbsp\; Attendees will enjoy a live auction\, silent auction\, entertainment\, great food\, drinks and fun!&nbsp\;<br />\n<br />\nThe theme this year will be Beach Party Theme\, dress as you like\, but if you dress up you will receive an extra ticket for our door prize&hellip\;FLAT SCREEN TV!<br />\n<br />\nOver the last eleven years the Mansfield Rotary Auctions have raised over $200\,000.00\, with 100% of these funds going to local\, regional national and international charities. &nbsp\;<br />\n<br />\nThe Mansfield Rotary has listened to the community\, and this year we have pledged to the following charities:&nbsp\;\n<ul>\n	<li>Alzheimer&rsquo\;s Disease and Dementia Support at Mansfield Adult Day Health Center</li>\n	<li>Mansfield&rsquo\;s Field of Honor Project</li>\n	<li>ShelterBox/Rotary International</li>\n	<li>&#8203\;Scholarships for Mansfield\, Norton and Southeastern Regional Tech High Schools</li>\n</ul>\n<br />\n______________________________________<br />\n<em>Rotary International is an organization of business and professional leaders united worldwide who provide humanitarian service\, encourage high ethical standards in all vocations\, and help build goodwill and peace in the world. In more than 160 countries worldwide\, approximately 1.2 million Rotarians belong to more than 30\,000 Rotary clubs. The Rotary Club of Mansfield consists of 23 members from the Mansfield and Norton area.<br />\nIf you are interested in membership to the Mansfield\, Rotary please contact Colby Barrows\, Rotary Past President\, at 508-840-9243.<br />\nThe Mansfield Rotary would like to thank you for your past and future support\, and be sure to save the date!!&nbsp\;<br />\n&nbsp\;</em><br />\n&nbsp\;<br />\n&nbsp\;
LOCATION:Mansfield Holiday Inn
UID:e.1730.1578
SEQUENCE:3
DTSTAMP:20260420T032408Z
URL:https://www.tri-townchamber.org/events/details/mansfield-rotary-auction-05-08-2015-1578
END:VEVENT

END:VCALENDAR
