BEGIN:VCALENDAR
VERSION:2.0
PRODID:-//ChamberMaster//Event Calendar 2.0//EN
METHOD:PUBLISH
X-PUBLISHED-TTL:P3D
REFRESH-INTERVAL:P3D
CALSCALE:GREGORIAN
BEGIN:VEVENT
DTSTART:20150920T140000Z
DTEND:20150920T150000Z
X-MICROSOFT-CDO-ALLDAYEVENT:FALSE
SUMMARY:Mansfield Rotary 5k Walk/Run
DESCRIPTION:Each year the Mansfield Rotary Club holds a 5k walk/run to raise money to help organizations in our town/area that help those in need.
X-ALT-DESC;FMTTYPE=text/html:Each year the Mansfield Rotary Club holds a 5k walk/run to raise money to help organizations in our town/area that help those in need.
LOCATION:Mansfield Holiday Inn Hampshire St. Mansfield\, MA 02048
UID:e.1730.1690
SEQUENCE:3
DTSTAMP:20260419T190116Z
URL:https://www.tri-townchamber.org/events/details/mansfield-rotary-5k-walk-run-09-20-2015-1690
END:VEVENT

END:VCALENDAR
