BEGIN:VCALENDAR
VERSION:2.0
PRODID:-//ChamberMaster//Event Calendar 2.0//EN
METHOD:PUBLISH
X-PUBLISHED-TTL:P3D
REFRESH-INTERVAL:P3D
CALSCALE:GREGORIAN
BEGIN:VEVENT
DTSTART:20150612T220000Z
DTEND:20150613T150000Z
X-MICROSOFT-CDO-ALLDAYEVENT:FALSE
SUMMARY:Mansfield Relay For Life
DESCRIPTION:Relay For Life - Mansfield
X-ALT-DESC;FMTTYPE=text/html:Relay For Life - Mansfield
LOCATION:Mansfield High School
UID:e.1730.1588
SEQUENCE:3
DTSTAMP:20260420T000639Z
URL:https://www.tri-townchamber.org/events/details/mansfield-relay-for-life-06-12-2015-1588
END:VEVENT

END:VCALENDAR
