BEGIN:VCALENDAR
VERSION:2.0
PRODID:-//ChamberMaster//Event Calendar 2.0//EN
METHOD:PUBLISH
X-PUBLISHED-TTL:P3D
REFRESH-INTERVAL:P3D
CALSCALE:GREGORIAN
BEGIN:VEVENT
DTSTART:20150714T220000Z
DTEND:20150715T020000Z
X-MICROSOFT-CDO-ALLDAYEVENT:FALSE
SUMMARY:Mansfield Family Fun Night
DESCRIPTION:Family Fun Night will take place on Tuesday\, July 14. This annual block party draws thousands of people to downtown Mansfield. It's a great opportunity for local businesses and community groups to showcase their products and services.\n\n\n\nThis is just one of several annual community events organized by Mansfield's Downtown Business Association (DBA). The DBA was founded in 1994 by local business owners to promote events and draw customers to downtown Mansfield.\n\n\n\nIf you would like to learn more or get involved\, visit the DBA Facebook page or contact Caitlin Barrows
X-ALT-DESC;FMTTYPE=text/html:Family Fun Night will take place on Tuesday\, July 14. This annual block party draws thousands of people to downtown Mansfield. It&#39\;s a great opportunity for local businesses and community groups to showcase their products and services.<br />\n<br />\nThis is just one of several annual community events organized by Mansfield&#39\;s Downtown Business Association (DBA). The DBA was founded in 1994 by local business owners to promote events and draw customers to downtown Mansfield.<br />\n<br />\n<em>If you would like to learn more or get involved\, visit the DBA Facebook page or contact Caitlin Barrows&nbsp\;</em>
LOCATION:Main Street Mansfield
UID:e.1730.1587
SEQUENCE:3
DTSTAMP:20260419T223909Z
URL:https://www.tri-townchamber.org/events/details/mansfield-family-fun-night-07-14-2015-1587
END:VEVENT

END:VCALENDAR
