BEGIN:VCALENDAR
VERSION:2.0
PRODID:-//ChamberMaster//Event Calendar 2.0//EN
METHOD:PUBLISH
X-PUBLISHED-TTL:P3D
REFRESH-INTERVAL:P3D
CALSCALE:GREGORIAN
BEGIN:VEVENT
DTSTART:20130709T220000Z
DTEND:20130710T010000Z
X-MICROSOFT-CDO-ALLDAYEVENT:FALSE
SUMMARY:Mansfield Family Fun Night
DESCRIPTION:This event is to celebrate family and the Town of Mansfield as the people come downtown to see friends\, eat great food and to see just what is going on in our downtown.
X-ALT-DESC;FMTTYPE=text/html:<span style="color: rgb(51\, 51\, 51)\; font-family: 'Helvetica Neue'\, Helvetica\, Arial\, sans-serif\; font-size: 14px\; line-height: 20px\;">This event is to celebrate family and the Town of Mansfield as the people come downtown to see friends\, eat great food and to see just what is going on in our downtown.</span>
LOCATION:
UID:e.1730.10
SEQUENCE:3
DTSTAMP:20260421T161332Z
URL:https://www.tri-townchamber.org/events/details/mansfield-family-fun-night-07-09-2013-10
END:VEVENT

END:VCALENDAR
