BEGIN:VCALENDAR
VERSION:2.0
PRODID:-//ChamberMaster//Event Calendar 2.0//EN
METHOD:PUBLISH
X-PUBLISHED-TTL:P3D
REFRESH-INTERVAL:P3D
CALSCALE:GREGORIAN
BEGIN:VEVENT
DTSTART:20140503T130000Z
DTEND:20140503T160000Z
X-MICROSOFT-CDO-ALLDAYEVENT:FALSE
SUMMARY:Mansfield CleanUp
DESCRIPTION:Register today for the Seventh Annual Great American Cleanup of Mansfield on May 3\, 2014
X-ALT-DESC;FMTTYPE=text/html:<h3 style="margin: 0px 0px 5px\; font-family: Vollkorn\, serif\; font-size: 1.35em\; line-height: 27.200000762939453px\;"><a href="https://docs.google.com/spreadsheet/viewform?formkey=cnJzSC1FQkhOaGttWUVYODR2dGl5NHc6MA..#gid=0" style="color: rgb(58\, 101\, 31)\;" target="_blank">Register today</a>&nbsp\;for the Seventh Annual Great American Cleanup of Mansfield on May 3\, 2014</h3>\n
LOCATION:
UID:e.1730.991
SEQUENCE:3
DTSTAMP:20260421T000235Z
URL:https://www.tri-townchamber.org/events/details/mansfield-cleanup-05-03-2014-991
END:VEVENT

END:VCALENDAR
