BEGIN:VCALENDAR
VERSION:2.0
PRODID:-//ChamberMaster//Event Calendar 2.0//EN
METHOD:PUBLISH
X-PUBLISHED-TTL:P3D
REFRESH-INTERVAL:P3D
CALSCALE:GREGORIAN
BEGIN:VEVENT
DTSTART:20150915T100000Z
DTEND:20150915T110000Z
X-MICROSOFT-CDO-ALLDAYEVENT:FALSE
SUMMARY:Mansfield Bank: Bootcamp For Women - starts Today!
DESCRIPTION:Mansfield Banks - Bootcamp for Women\n\n\n	FITNESS & FINANCE\n	All fitness levels are welcome and will be accommodated\n	NO COST to you\, just agree to schedule a 30 minute consultation with someone from Mansfield Bank about your financial needs\n	REGISTER NOW by calling 508. 851. 3600\n	Begins September 15th - for 4 weeks (Tuesdays & Thursdays)\n\nOutdoors on the Mansfield South Common\n\nA FUN AND FANTASTIC BOOTCAMP SESSION\, TWICE A WEEK FOR 4 WEEKS\, 1 HOUR
X-ALT-DESC;FMTTYPE=text/html:<strong>Mansfield Banks - Bootcamp for Women</strong>\n\n<ul>\n	<li>FITNESS &amp\; FINANCE</li>\n	<li>All fitness levels are welcome&nbsp\;and will be accommodated</li>\n	<li>NO COST to you\, just agree&nbsp\;to schedule a 30 minute&nbsp\;consultation with someone from&nbsp\;Mansfield Bank about your&nbsp\;financial needs</li>\n	<li>REGISTER NOW by calling&nbsp\;508. 851. 3600</li>\n	<li>Begins September 15th - for 4 weeks (Tuesdays &amp\; Thursdays)</li>\n</ul>\n<em>Outdoors on the Mansfield South Common</em><br />\n<strong>A FUN AND FANTASTIC BOOTCAMP SESSION\, TWICE A WEEK FOR 4 WEEKS\, 1 HOUR</strong><br />\n&nbsp\;
LOCATION:Outdoors on the Mansfield South Common
UID:e.1730.1708
SEQUENCE:3
DTSTAMP:20260419T204233Z
URL:https://www.tri-townchamber.org/events/details/mansfield-bank-bootcamp-for-women-starts-today-09-15-2015-1708
END:VEVENT

END:VCALENDAR
