BEGIN:VCALENDAR
VERSION:2.0
PRODID:-//ChamberMaster//Event Calendar 2.0//EN
METHOD:PUBLISH
X-PUBLISHED-TTL:P3D
REFRESH-INTERVAL:P3D
CALSCALE:GREGORIAN
BEGIN:VEVENT
DTSTART:20140513T230000Z
DTEND:20140514T003000Z
X-MICROSOFT-CDO-ALLDAYEVENT:FALSE
SUMMARY:Managing Sinusitis: Evaluation and Treatment
DESCRIPTION:Spring is coming\, and the warmer weather brings allergies and colds - often the cause of sinus infections\, or "sinusitis." Join ENT physician Sapideh Gilani\, MD as she discusses symptoms\, evaluation\, and treatment of sinusitis. This presentation is free and open to all - registration is required to ensure adequate seating.
X-ALT-DESC;FMTTYPE=text/html:Spring is coming\, and the warmer weather brings allergies and colds - often the cause of sinus infections\, or &quot\;sinusitis.&quot\; Join ENT physician Sapideh Gilani\, MD as she discusses symptoms\, evaluation\, and treatment of sinusitis. This presentation is free and open to all - registration is required to ensure adequate seating.
LOCATION:Brigham and Women's/Mass General Health Care Center 3rd Floor Atrium 20 Patriot Place\, Foxborough
UID:e.1730.1001
SEQUENCE:3
DTSTAMP:20260420T222101Z
URL:https://www.tri-townchamber.org/events/details/managing-sinusitis-evaluation-and-treatment-05-13-2014-1001
END:VEVENT

END:VCALENDAR
