BEGIN:VCALENDAR
VERSION:2.0
PRODID:-//ChamberMaster//Event Calendar 2.0//EN
METHOD:PUBLISH
X-PUBLISHED-TTL:P3D
REFRESH-INTERVAL:P3D
CALSCALE:GREGORIAN
BEGIN:VEVENT
DTSTART:20151110T000000Z
DTEND:20151110T013000Z
X-MICROSOFT-CDO-ALLDAYEVENT:FALSE
SUMMARY:Managing Low Back Pain
DESCRIPTION:Join Brigham and Women's Pain Management Department's Dr. David Boyce as he discusses how pain is a disease and not only a symptom\, the transition from acute to chronic pain\, and the evaluation and treatment options that are available for low back pain. To learn more and register for this event\, please call (866) 378-9164.
X-ALT-DESC;FMTTYPE=text/html:Join Brigham and Women&#39\;s Pain Management Department&#39\;s Dr. David Boyce as he&nbsp\;discusses how pain is a disease and not only a symptom\, the transition from acute to chronic pain\, and the evaluation and treatment options that are available for low back pain.&nbsp\;<strong>To learn more and register for this event\, please call (866) 378-9164.</strong>
LOCATION:2d Floor Conference Room\, Brigham and Women's/Mass General Health Care Center\, 20 Patriot Place\, Foxborough\, MA
UID:e.1730.1840
SEQUENCE:3
DTSTAMP:20260419T154533Z
URL:https://www.tri-townchamber.org/events/details/managing-low-back-pain-11-09-2015-1840
END:VEVENT

END:VCALENDAR
