BEGIN:VCALENDAR
VERSION:2.0
PRODID:-//ChamberMaster//Event Calendar 2.0//EN
METHOD:PUBLISH
X-PUBLISHED-TTL:P3D
REFRESH-INTERVAL:P3D
CALSCALE:GREGORIAN
BEGIN:VEVENT
DTSTART:20260519T123000Z
DTEND:20260519T140000Z
X-MICROSOFT-CDO-ALLDAYEVENT:FALSE
SUMMARY:Main Street Matters Tour
DESCRIPTION:Join NFIB\, the Retailers Association of Massachusetts\, and the Massachusetts Restaurant Association as we partner with the Tri-Town and United Regional Chambers of Commerce to bring you the Main Street Matters Tour!\n\n\nABOUT\n\n\n\nThe Main Street Matters Tour is a statewide effort that brings an opportunity for small business owners like you to gather locally to discuss the issues you're facing\, network with one another\, and learn about what Beacon Hill is up to (and the power you have to do something about it). \n\n\n\nWe understand that Boston traffic and parking fees make it difficult for small business owners to leave their business to meet with their legislators on Beacon Hill. That's why this year we're trying something new by bringing this exclusive advocacy opportunity to your backyard. Instead of you taking time away from your business to meet with your legislators on Beacon Hill\, we are inviting them to our event so that they come to you.\n\n\n\nTOPICS\n\n\n\n- Skyrocketing Energy Bills\n\n- Out of Control Health Insurance Premiums\n\n- Massachusetts' Abysmal Tax Ranking\n\n- Labor Mandates: Beacon Hill Telling You How to Run Your Business\n\n- Unemployment Insurance on the Brink of Insolvency
X-ALT-DESC;FMTTYPE=text/html:<span style="color:#000000\;"><span style="font-size:14px\;"><span style="font-family:arial\;">Join NFIB\, the Retailers Association of Massachusetts\, and the Massachusetts Restaurant Association as we partner with the Tri-Town and United Regional Chambers of Commerce to bring you the Main Street Matters Tour!</span></span></span>\n<p color:="" data-qa-file="FullHeader" data-qa-node="p" font-size:="" open="" style="box-sizing: border-box\; padding: 0px\; margin: 8px 0px 0px\; border: 0px\; outline: 0px\; font-family: "><br style="box-sizing: border-box\; padding: 0px\; margin: 0px\; border: 0px\; outline: 0px\;" />\n<span style="color:#000000\;"><span style="font-size:14px\;"><span style="font-family:arial\;"><span style="box-sizing: border-box\; padding: 0px\; margin: 0px\; border: 0px\; outline: 0px\;"><span style="box-sizing: border-box\; padding: 0px\; margin: 0px\; border: 0px\; outline: 0px\;"><strong style="box-sizing: border-box\; padding: 0px\; margin: 0px\; border: 0px\; outline: 0px\;">ABOUT</strong></span></span><br style="box-sizing: border-box\; padding: 0px\; margin: 0px\; border: 0px\; outline: 0px\;" />\n<br style="box-sizing: border-box\; padding: 0px\; margin: 0px\; border: 0px\; outline: 0px\;" />\nThe Main Street Matters Tour is a statewide effort that brings an opportunity for small business owners like you to gather locally to discuss the issues you&#39\;re facing\, network with one another\, and learn about what Beacon Hill is up to (and the power you have to do something about it).&nbsp\;<br style="box-sizing: border-box\; padding: 0px\; margin: 0px\; border: 0px\; outline: 0px\;" />\n<br style="box-sizing: border-box\; padding: 0px\; margin: 0px\; border: 0px\; outline: 0px\;" />\nWe understand that Boston traffic and parking fees make it difficult for small business owners to leave their business to meet with their legislators on Beacon Hill. That&#39\;s why this year we&#39\;re trying something new by bringing this exclusive advocacy opportunity to your backyard. Instead of you taking time away from your business to meet with your legislators on Beacon Hill\, we are inviting them to our event so that they come to you.</span></span></span></p>\n\n<p font-size:="" open="" style="box-sizing: border-box\; padding: 0px\; margin: 8px 0px 0px\; border: 0px\; outline: 0px\; font-family: "><br style="box-sizing: border-box\; padding: 0px\; margin: 0px\; border: 0px\; outline: 0px\;" />\n<span style="color:#000000\;"><span style="font-size:14px\;"><span style="font-family:arial\;"><span style="box-sizing: border-box\; padding: 0px\; margin: 0px\; border: 0px\; outline: 0px\;"><span style="box-sizing: border-box\; padding: 0px\; margin: 0px\; border: 0px\; outline: 0px\;"><strong style="box-sizing: border-box\; padding: 0px\; margin: 0px\; border: 0px\; outline: 0px\;">TOPICS</strong></span></span><br style="box-sizing: border-box\; padding: 0px\; margin: 0px\; border: 0px\; outline: 0px\;" />\n<br style="box-sizing: border-box\; padding: 0px\; margin: 0px\; border: 0px\; outline: 0px\;" />\n<span style="box-sizing: border-box\; padding: 0px\; margin: 0px\; border: 0px\; outline: 0px\;">- Skyrocketing Energy Bills</span><br style="box-sizing: border-box\; padding: 0px\; margin: 0px\; border: 0px\; outline: 0px\;" />\n<span style="box-sizing: border-box\; padding: 0px\; margin: 0px\; border: 0px\; outline: 0px\;">- Out of Control Health Insurance Premiums</span><br style="box-sizing: border-box\; padding: 0px\; margin: 0px\; border: 0px\; outline: 0px\;" />\n<span style="box-sizing: border-box\; padding: 0px\; margin: 0px\; border: 0px\; outline: 0px\;">- Massachusetts&rsquo\; Abysmal Tax Ranking</span><br style="box-sizing: border-box\; padding: 0px\; margin: 0px\; border: 0px\; outline: 0px\;" />\n<span style="box-sizing: border-box\; padding: 0px\; margin: 0px\; border: 0px\; outline: 0px\;">- Labor Mandates: Beacon Hill Telling You How to Run Your Business</span><br style="box-sizing: border-box\; padding: 0px\; margin: 0px\; border: 0px\; outline: 0px\;" />\n<span style="box-sizing: border-box\; padding: 0px\; margin: 0px\; border: 0px\; outline: 0px\;">- Unemployment Insurance on the Brink of Insolvency</span></span></span></span></p>\n\n<p>&nbsp\;</p>\n
LOCATION:at the Tri-Town Chamber of Commerce Building 280 School St.\, Mansfield
UID:e.1730.8503
SEQUENCE:3
DTSTAMP:20260425T201223Z
URL:https://www.tri-townchamber.org/events/details/main-street-matters-tour-8503
END:VEVENT

END:VCALENDAR
