BEGIN:VCALENDAR
VERSION:2.0
PRODID:-//ChamberMaster//Event Calendar 2.0//EN
METHOD:PUBLISH
X-PUBLISHED-TTL:P3D
REFRESH-INTERVAL:P3D
CALSCALE:GREGORIAN
BEGIN:VEVENT
DTSTART:20151013T160000Z
DTEND:20151013T173000Z
X-MICROSOFT-CDO-ALLDAYEVENT:FALSE
SUMMARY:Lunch & Learn Planning Vs. Reacting A Proactive Approach to Challenging Economic Conditions
DESCRIPTION:Planning Vs. Reacting  A Proactive Approach to Challenging Economic Conditions\n\nWhat we cover in the presentation is  \n\n	What is the process to worry less about your finances? \n	We will dispel the myth Financial planning is only for the wealthy. \n	Come to a lunch and learn at the Tri-Town Chamber office to find out more.\n	Lunch will be provided - Please RSVP \n\n \n\n  - Sponsored By\n\nDavid P. Santoro\, CFP \, MBA\n\nFinancial Consultant\, MCB Financial Services at Mansfield Bank
X-ALT-DESC;FMTTYPE=text/html:<strong>Planning Vs. Reacting &nbsp\;</strong><em>A Proactive Approach to Challenging Economic Conditions</em><br />\nWhat we cover in the presentation is&hellip\;&nbsp\;\n<ul>\n	<li>What is the process to worry less about your finances?&nbsp\;</li>\n	<li>We will dispel the myth Financial planning is only for the wealthy.&nbsp\;</li>\n	<li>Come to a lunch and learn at the Tri-Town Chamber office to find out more.</li>\n	<li>Lunch will be provided - Please RSVP&nbsp\;</li>\n</ul>\n&nbsp\;<br />\n&nbsp\; - Sponsored By<br />\n<span style="line-height: 23.1111106872559px\;">David P.&nbsp\;</span><span style="line-height: 23.1111106872559px\;">Santoro</span><span style="line-height: 23.1111106872559px\;">\, CFP&reg\;\, MBA</span><br style="line-height: 23.1111106872559px\;" />\n<span style="line-height: 23.1111106872559px\;">Financial Consultant\,&nbsp\;</span><span style="line-height: 23.1111106872559px\;">MCB Financial Services at Mansfield Bank</span><br style="line-height: 23.1111106872559px\;" />\n<br style="line-height: 23.1111106872559px\;" />\n&nbsp\;
LOCATION:at the Chamber Offices 280 School Street Mansfield MA
UID:e.1730.1707
SEQUENCE:3
DTSTAMP:20260419T172430Z
URL:https://www.tri-townchamber.org/events/details/lunch-learn-planning-vs-reacting-a-proactive-approach-to-challenging-economic-conditions-10-13-2015-1707
END:VEVENT

END:VCALENDAR
