BEGIN:VCALENDAR
VERSION:2.0
PRODID:-//ChamberMaster//Event Calendar 2.0//EN
METHOD:PUBLISH
X-PUBLISHED-TTL:P3D
REFRESH-INTERVAL:P3D
CALSCALE:GREGORIAN
BEGIN:VEVENT
DTSTART:20150729T160000Z
DTEND:20150729T173000Z
X-MICROSOFT-CDO-ALLDAYEVENT:FALSE
SUMMARY:Lunch & Learn Long Term Care Planning
DESCRIPTION:Long Term Care Planning\n\nThe number one concern that people in their 50's and 60's has today is "How am I going to pay for my retirement?".\n\nAnd when you dig deeper into that question\, the number one or two concern is related to the cost of health care in retirement.\n\nHow much are my premiums going to be? What are my out of pocket medical expenses going to be?\n\nGreat questions. Some of the expenses will be covered by Medicare which has a premium that is dependent on your income level.\n\nExpenses not covered by Medicare can be addressed by purchasing supplemental insurance best known as Medicare Advantage Supplemental insurance.\n\nSo this helps takes care of our traditional health care needs in retirement - doctor's visits\, hospital stays\, and prescriptions.\n\nHowever\, if you need "custodial care" or what is referred to as "long term care"\, then other than some transition care provided by Medicare while recovering from a hospital stay\, then you are on your own.\n\n \n\nSo what should you do now to prepare for the possibility of needing long term care? Well as in most cases\, the answer is\, it depends.\n\nMany factors come into play in the decision making process. Are you married or single? Male or female? Have children to care for you?\n\nHave ability to separate assets from your retirement assets to use for care? Are you currently in good health? Do you have longevity in your family?\n\nDo I want to leave a legacy? Do I want to have options for selecting the type and place of care?\n\n \n\nIn our seminar\, we will cover these questions and present the different options available to you today to help plan and prepare for a long term care event.\n\n  \n\nLegacy Financial Group\n\n\n\n\n\nLunch will be provided - Please RSVP
X-ALT-DESC;FMTTYPE=text/html:<strong>Long Term Care Planning</strong><br />\nThe number one concern that people in their 50&rsquo\;s and 60&rsquo\;s has today is &ldquo\;How am I going to pay for my retirement?&rdquo\;.<br />\nAnd when you dig deeper into that question\, the number one or two concern is related to the cost of health care in retirement.<br />\nHow much are my premiums going to be? What are my out of pocket medical expenses going to be?<br />\nGreat questions. Some of the expenses will be covered by Medicare which has a premium that is dependent on your income level.<br />\nExpenses not covered by Medicare can be addressed by purchasing supplemental insurance best known as Medicare Advantage Supplemental insurance.<br />\nSo this helps takes care of our traditional health care needs in retirement - doctor&rsquo\;s visits\, hospital stays\, and prescriptions.<br />\nHowever\, if you need &ldquo\;custodial care&rdquo\; or what is referred to as &ldquo\;long term care&rdquo\;\, then other than some transition care provided by Medicare while recovering from a hospital stay\, then you are on your own.<br />\n&nbsp\;<br />\nSo what should you do now to prepare for the possibility of needing long term care? Well as in most cases\, the answer is\, it depends.<br />\nMany factors come into play in the decision making process. Are you married or single? Male or female? Have children to care for you?<br />\nHave ability to separate assets from your retirement assets to use for care? Are you currently in good health? Do you have longevity in your family?<br />\nDo I want to leave a legacy? Do I want to have options for selecting the type and place of care?<br />\n&nbsp\;<br />\nIn our seminar\, we will cover these questions and present the different options available to you today to help plan and prepare for a long term care event.<br />\n&nbsp\;&nbsp\;<br />\nLegacy Financial Group<br />\n<br />\n<br />\nLunch will be provided - Please RSVP&nbsp\;<br />\n&nbsp\;<br />\n&nbsp\;
LOCATION:at the Chamber Offices 280 School Street Mansfield MA
UID:e.1730.1683
SEQUENCE:3
DTSTAMP:20260419T223649Z
URL:https://www.tri-townchamber.org/events/details/lunch-learn-long-term-care-planning-07-29-2015-1683
END:VEVENT

END:VCALENDAR
