BEGIN:VCALENDAR
VERSION:2.0
PRODID:-//ChamberMaster//Event Calendar 2.0//EN
METHOD:PUBLISH
X-PUBLISHED-TTL:P3D
REFRESH-INTERVAL:P3D
CALSCALE:GREGORIAN
BEGIN:VEVENT
DTSTART:20150611T160000Z
DTEND:20150611T173000Z
X-MICROSOFT-CDO-ALLDAYEVENT:FALSE
SUMMARY:Lunch & Learn - Let's talk about Social Security and your future
DESCRIPTION:Make a Social Call\n\nLet's talk about Social Security and your future - \n\nIf your married there are 567 ways to take your social security!\n\nDid you know that you don't have to take your Social Security retirement benefits at age 62?\n\nOr even when you stop working?\n\nYou can defer your Social Security retirement benefits until you're 70.\n\nAnd there are good reasons why you may want to do exactly that. Now more than ever\, it's important for you to know how to get the most from your Social Security.\n\nJoin me for a discussion. Learn how to make the right calls when it comes to Social Security and your retirement.\n\n \n\nPresented by: Legacy Financial\n\nJoe Mcparland\n\nDave Wiech\n\nDave Moses\n\n \n\nJoseph P. McParland   Financial Service Professional - Legacy Financial Group\n\n \n\n\n\nLunch will be provided - Please RSVP
X-ALT-DESC;FMTTYPE=text/html:<strong>Make a Social Call</strong><br />\nLet&#39\;s talk about Social Security and your future -&nbsp\;<br />\nIf your married there are 567 ways to take your social security!<br />\nDid you know that you don&rsquo\;t have to take your&nbsp\;Social Security retirement benefits at age 62?<br />\nOr even when you stop working?<br />\nYou can defer your Social Security&nbsp\;retirement benefits until you&rsquo\;re 70.<br />\nAnd there are good reasons why you&nbsp\;may want to do exactly that. Now more than ever\, it&rsquo\;s important for you to&nbsp\;know how to get the most from your Social Security.<br />\nJoin me for a discussion. Learn how to make the right calls when it&nbsp\;comes to Social Security and your retirement.<br />\n&nbsp\;<br />\nPresented by:&nbsp\;Legacy Financial<br />\nJoe Mcparland<br />\nDave Wiech<br />\nDave Moses<br />\n&nbsp\;<br />\nJoseph P. McParland &nbsp\;&nbsp\;Financial Service Professional -&nbsp\;Legacy Financial Group<br />\n&nbsp\;<br />\n<br />\nLunch will be provided - Please RSVP&nbsp\;<br />\n&nbsp\;<br />\n&nbsp\;
LOCATION:at the Chamber Offices 280 School Street Mansfield MA
UID:e.1730.1661
SEQUENCE:3
DTSTAMP:20260420T015553Z
URL:https://www.tri-townchamber.org/events/details/lunch-learn-let-s-talk-about-social-security-and-your-future-06-11-2015-1661
END:VEVENT

END:VCALENDAR
