BEGIN:VCALENDAR
VERSION:2.0
PRODID:-//ChamberMaster//Event Calendar 2.0//EN
METHOD:PUBLISH
X-PUBLISHED-TTL:P3D
REFRESH-INTERVAL:P3D
CALSCALE:GREGORIAN
BEGIN:VEVENT
DTSTART:20150917T163000Z
DTEND:20150917T173000Z
X-MICROSOFT-CDO-ALLDAYEVENT:FALSE
SUMMARY:Lunch & Learn - Care Options for Adults of all Ages
DESCRIPTION:You are Invited to a Lunch & Learn - Care Options for Adults of all Ages\n\nThursday September 17\, 2015    12:30 -1:30PM\n\n \n\nThis program is designed for family members and professionals. Explore care options for aging parents or clients.\n\nWhether you are a family caregiver or a professional who is guiding clients with care needs\, this lunch and learn program will give you an overview of community based services and resources. We will review: \n\n	Eligibility for certified home health services covered by Medicare or private insurances\n	Private Home Care: What care do I need and how do I pay for it\n	Adult Day Health Care as a cost effective option to help caregivers and families.   \n	Medical model adult day health services are a valuable tool for adults with dementia\, multiple medical needs and for those seeking to delay long term care placement\n\n \n\nIn addition\, we will also address:\n\n\n	What services are covered by insurances and what is not?\n	Does my long term care (insurance) cover services?\n	Options to finance your care choices\n	Are there other resources to pay for the care that is needed?\n\n \n\nDon't wait for a crisis to happen\, take this time to learn about resources and ask the questions that are important to you.\n\nPanel of speakers represent Mansfield Adult Day Health Center\, Community VNA and Community VNA Private Care\n\n\n\nLunch will be provided - Please RSVP
X-ALT-DESC;FMTTYPE=text/html:You are Invited to a Lunch &amp\; Learn - Care Options for Adults of all Ages<br />\nThursday September 17\, 2015 &nbsp\;&nbsp\;&nbsp\;12:30 -1:30PM<br />\n&nbsp\;<br />\nThis program is designed for family members and professionals. Explore care options for aging parents or clients.<br />\nWhether you are a family caregiver or a professional who is guiding clients with care needs\, this lunch and learn program will give you an overview of community based services and resources. We will review:&nbsp\;\n<ul>\n	<li>Eligibility for certified home health services covered by Medicare or private insurances</li>\n	<li>Private Home Care: What care do I need and how do I pay for it</li>\n	<li>Adult Day Health Care as a cost effective option to help caregivers and families.&nbsp\;&nbsp\;&nbsp\;</li>\n	<li>Medical model adult day health services are a valuable tool for adults with dementia\, multiple medical needs and for those seeking to delay long term care placement</li>\n</ul>\n&nbsp\;<br />\n<em>In addition\, we will also address:</em>\n\n<ul>\n	<li>What services are covered by insurances and what is not?</li>\n	<li>Does my long term care (insurance) cover services?</li>\n	<li>Options to finance your care choices</li>\n	<li>Are there other resources to pay for the care that is needed?</li>\n</ul>\n&nbsp\;<br />\nDon&rsquo\;t wait for a crisis to happen\, take this time to learn about resources and ask the questions that are important to you.<br />\nPanel of speakers represent Mansfield Adult Day Health Center\, Community VNA and Community VNA Private Care<br />\n<br />\nLunch will be provided - <strong>Please RSVP</strong><br />\n&nbsp\;
LOCATION:Tri-Town Chamber of Commerce 280 School St. Mansfield MA The Chamber building is within Mansfield Crossing Shopping Plaza. Enter Main entrance and follow signs for Kohl's department store the Chamber building is to the right\, and set behind Kohl's
UID:e.1730.1694
SEQUENCE:3
DTSTAMP:20260419T190247Z
URL:https://www.tri-townchamber.org/events/details/lunch-learn-care-options-for-adults-of-all-ages-09-17-2015-1694
END:VEVENT

END:VCALENDAR
