BEGIN:VCALENDAR
VERSION:2.0
PRODID:-//ChamberMaster//Event Calendar 2.0//EN
METHOD:PUBLISH
X-PUBLISHED-TTL:P3D
REFRESH-INTERVAL:P3D
CALSCALE:GREGORIAN
BEGIN:VEVENT
DTSTART:20151112T170000Z
DTEND:20151112T183000Z
X-MICROSOFT-CDO-ALLDAYEVENT:FALSE
SUMMARY:Lunch & Learn: Basics of a Financial Plan
DESCRIPTION:We'll touch on all four areas that are the foundation of a strong financial plan: assets\, liabilities\, cash flow\, and protection. We will start with the basics before moving on to discuss saving for a home\, applying for a mortgage\, and saving for education and retirement. Finally\, we will explain what's available to protect your assets and your income.\n\n\n\nPresented by Legacy Financial
X-ALT-DESC;FMTTYPE=text/html:We&#39\;ll touch on all four areas that are the foundation of a strong financial plan:&nbsp\;assets\, liabilities\, cash flow\, and protection. We will start with the basics before moving on to discuss saving for a home\, applying for a mortgage\, and saving for education and retirement. Finally\, we will explain what&#39\;s available to protect your assets and your income.<br />\n<br />\n<em><strong>Presented by Legacy Financial</strong></em>
LOCATION:Chamber Office 280 School Street Mansfield MA
UID:e.1730.1835
SEQUENCE:3
DTSTAMP:20260419T154558Z
URL:https://www.tri-townchamber.org/events/details/lunch-learn-basics-of-a-financial-plan-11-12-2015-1835
END:VEVENT

END:VCALENDAR
