BEGIN:VCALENDAR
VERSION:2.0
PRODID:-//ChamberMaster//Event Calendar 2.0//EN
METHOD:PUBLISH
X-PUBLISHED-TTL:P3D
REFRESH-INTERVAL:P3D
CALSCALE:GREGORIAN
BEGIN:VEVENT
DTSTART:20150514T160000Z
DTEND:20150514T173000Z
X-MICROSOFT-CDO-ALLDAYEVENT:FALSE
SUMMARY:Lunch & Learn 401(k) Focused Reference Series
DESCRIPTION:401(k) Focused Reference Series \n\nAre you a plan fiduciary? Please join us to discuss legislative\, regulatory\, and fiduciary enforcement issues likely to confront retirement plan sponsors and plan fiduciaries. Also learn about the equitable allocation of participant fees and fee disclosure loopholes embedded in the DOL fee disclosure regulations.  Learn about fiduciary best practices and mitigation of personal liability issues. \n\n\n\nLunch will be provided - Please RSVP \n\n \n\n  - Sponsored By John Hancock and Legacy Financial Group
X-ALT-DESC;FMTTYPE=text/html:<strong>401(k) Focused Reference Series </strong><br />\nAre you a plan fiduciary? Please join us to discuss legislative\, regulatory\, and fiduciary enforcement issues likely to confront retirement plan sponsors and plan fiduciaries. Also learn about the equitable allocation of participant fees and fee disclosure loopholes embedded in the DOL fee disclosure regulations.&nbsp\; Learn about fiduciary best practices and mitigation of personal liability issues.&nbsp\;<br />\n<br />\nLunch will be provided - Please RSVP&nbsp\;<br />\n&nbsp\;<br />\n&nbsp\; - Sponsored By John Hancock and Legacy Financial Group
LOCATION:at the Chamber Offices 280 School Street Mansfield MA
UID:e.1730.1652
SEQUENCE:3
DTSTAMP:20260420T015313Z
URL:https://www.tri-townchamber.org/events/details/lunch-learn-401-k-focused-reference-series-05-14-2015-1652
END:VEVENT

END:VCALENDAR
