BEGIN:VCALENDAR
VERSION:2.0
PRODID:-//ChamberMaster//Event Calendar 2.0//EN
METHOD:PUBLISH
X-PUBLISHED-TTL:P3D
REFRESH-INTERVAL:P3D
CALSCALE:GREGORIAN
BEGIN:VEVENT
DTSTART:20150901T154500Z
DTEND:20150901T173000Z
X-MICROSOFT-CDO-ALLDAYEVENT:FALSE
SUMMARY:Lt Governor Karyn Polito to Speak at Chamber
DESCRIPTION:You are invited to a Luncheon featuring the Lt Governor of Massachusetts Karyn Polito.\n\n\n\n Karyn Polito is the 72nd Lieutenant Governor of the Commonwealth of Massachusetts. \n\n \n\nShe began her public service in local government serving as a member of the Shrewsbury Board of Selectmen\, and served for ten years in the House of Representatives after being elected in 2001.\n\n \n\nAs a family business owner and attorney\, Polito has worked hard to promote jobs\, reduce red tape and promote economic development through public - private partnerships. She serves as Chair for the Governor's Council to reduce sexual assault and domestic violence\, leading a council to identify best practices and determine ways to help survivors reach physical and economic security and self-sufficiency. \n\n \n\nShe also chairs the Community Compact Cabinet\, which allows the Governor's Office to work directly with city and town leaders to strengthen municipal partnerships as part of the Baker-Polito Administration's focus on building stronger communities across our Commonwealth.\n\n \n\nLieutenant Governor Polito is a lifelong resident of Shrewsbury\, where she lives with her husband and two young children.\n\n\n\n\n\n\n\nEvent Sponsor: Foley & Foley\, PC
X-ALT-DESC;FMTTYPE=text/html:You are invited to a Luncheon featuring the Lt Governor of Massachusetts Karyn Polito.<br />\n<br />\n<em>&nbsp\;Karyn Polito is the 72nd Lieutenant Governor of the Commonwealth of Massachusetts.&nbsp\;<br />\n&nbsp\;<br />\nShe began her public service in local government serving as a member of the Shrewsbury Board of Selectmen\, and served for ten years in the House of Representatives after being elected in 2001.<br />\n&nbsp\;<br />\nAs a family business owner and attorney\, Polito has worked hard to promote jobs\, reduce red tape and promote economic development through public - private partnerships. She serves as Chair for the Governor&rsquo\;s Council to reduce sexual assault and domestic violence\, leading a council to identify best practices and determine ways to help survivors reach physical and economic security and self-sufficiency.&nbsp\;<br />\n&nbsp\;<br />\nShe also chairs the Community Compact Cabinet\, which allows the Governor&rsquo\;s Office to work directly with city and town leaders to strengthen municipal partnerships as part of the Baker-Polito Administration&#39\;s focus on building stronger communities across our Commonwealth.<br />\n&nbsp\;<br />\nLieutenant Governor Polito is a lifelong resident of Shrewsbury\, where she lives with her husband and two young children.</em><br />\n<br />\n<br />\n<br />\n<span style="line-height: 23.1111106872559px\; font-family: arial\;"><span style="font-size: 14px\;">Event Sponsor:&nbsp\;</span></span><span style="font-size: 20px\;"><strong>Foley &amp\; Foley\, PC</strong></span><br style="line-height: 23.1111106872559px\;" />\n&nbsp\;
LOCATION:Holiday Inn 31 Hampshire Mansfield MA
UID:e.1730.1679
SEQUENCE:3
DTSTAMP:20260419T190247Z
URL:https://www.tri-townchamber.org/events/details/lt-governor-karyn-polito-to-speak-at-chamber-09-01-2015-1679
END:VEVENT

END:VCALENDAR
