BEGIN:VCALENDAR
VERSION:2.0
PRODID:-//ChamberMaster//Event Calendar 2.0//EN
METHOD:PUBLISH
X-PUBLISHED-TTL:P3D
REFRESH-INTERVAL:P3D
CALSCALE:GREGORIAN
BEGIN:VEVENT
DTSTART:20160125T160000Z
DTEND:20160125T180000Z
X-MICROSOFT-CDO-ALLDAYEVENT:FALSE
SUMMARY:Look Good Feel Better Session in Foxboro
DESCRIPTION:Norwood Hospital Cancer Center at Foxboro Hosts Look Good Feel Better Session\n\n \n\nOn Monday\, January 25\, 2016\, Norwood Hospital Cancer Center at Foxboro will host an American Cancer Society sponsored  Look Good Feel Better session. Volunteer beauty professionals will teach female cancer patients beauty techniques to help restore their self-image during chemotherapy and radiation treatments. Women will learn about makeup techniques\, skincare\, nail care and options related to hair loss such as wigs\, turbans and scarves. Each participant will receive a free cosmetics kit for use during and after the workshop.  Light refreshments will be provided.\n\n \n\nTo register for this event\, please call DoctorFinder  at 1-800-488-5959 \nWHO: American Cancer Society             \n\nWHAT: Free beauty technique session and cosmetics kit for female cancer patients \n\nWHEN: Monday\, January 25\, 2016 - 11:00 a.m.   1:00 p.m. \n\nWHERE:  Norwood Hospital Cancer Center at Foxboro - 70 Walnut Street\, Foxboro\, MA 02035\n \n\nAbout the American Cancer Society\n\nThe American Cancer Society (ACS) is a nationwide\, community-based voluntary health organization. Headquartered in Atlanta\, Georgia\, the ACS has state divisions and more than 3\,400 local offices.\n\n \n\nAbout Norwood Hospital\n\nNorwood Hospital is a full-service\, 215-bed community hospital for adults and children with a focus on delivering world-class health care along with the latest advances in technology and treatment options. Norwood Hospital is part of the Steward Health Care System LLC\, the largest integrated community care organization in New England which combines over 3\,000 physicians\, 10 hospital campuses\, managed care\, insurance programs\, home care\, an imaging operation\, and a number of other post-acute services\, to provide the most cost effective and highest quality of integrated patient care. Additional information is available at www.norwood-hospital.org
X-ALT-DESC;FMTTYPE=text/html:Norwood Hospital Cancer Center at Foxboro Hosts Look Good&hellip\;Feel Better Session<br />\n&nbsp\;<br />\nOn Monday\, January 25\, 2016\, Norwood Hospital Cancer Center at Foxboro will host an American Cancer Society sponsored&nbsp\; Look Good&hellip\;Feel Better session. Volunteer beauty professionals will teach female cancer patients beauty techniques to help restore their self-image during chemotherapy and radiation treatments. Women will learn about makeup techniques\, skincare\, nail care and options related to hair loss such as wigs\, turbans and scarves. Each participant will receive a free cosmetics kit for use during and after the workshop.&nbsp\; Light refreshments will be provided.<br />\n&nbsp\;<br />\nTo register for this event\, please call DoctorFinder&trade\; at 1-800-488-5959&nbsp\;\n<div style="margin-left: 40px\;">WHO: American Cancer Society&nbsp\;&nbsp\;&nbsp\;&nbsp\;&nbsp\;&nbsp\;&nbsp\;&nbsp\;&nbsp\;&nbsp\;&nbsp\;&nbsp\;&nbsp\;<br />\nWHAT: Free beauty technique session and cosmetics kit for female cancer patients&nbsp\;<br />\nWHEN: Monday\, January 25\, 2016 -&nbsp\;11:00 a.m. &ndash\; 1:00 p.m.&nbsp\;<br />\nWHERE: &nbsp\;Norwood Hospital Cancer Center at Foxboro -&nbsp\;70 Walnut Street\,&nbsp\;Foxboro\, MA 02035</div>\n&nbsp\;<br />\n<em>About the American Cancer Society<br />\nThe American Cancer Society (ACS) is a nationwide\, community-based voluntary health organization. Headquartered in Atlanta\, Georgia\, the ACS has state divisions and more than 3\,400 local offices.</em><br />\n&nbsp\;<br />\n<em>About Norwood Hospital<br />\nNorwood Hospital is a full-service\, 215-bed community hospital for adults and children with a focus on delivering world-class health care along with the latest advances in technology and treatment options. Norwood Hospital is part of the Steward Health Care System LLC\, the largest integrated community care organization in New England which combines over 3\,000 physicians\, 10 hospital campuses\, managed care\, insurance programs\, home care\, an imaging operation\, and a number of other post-acute services\, to provide the most cost effective and highest quality of integrated patient care. Additional information is available at www.norwood-hospital.org</em>
LOCATION:Norwood Hospital Cancer Center at Foxboro 70 Walnut Street
UID:e.1730.2100
SEQUENCE:3
DTSTAMP:20260419T124429Z
URL:https://www.tri-townchamber.org/events/details/look-good-feel-better-session-in-foxboro-01-25-2016-2100
END:VEVENT

END:VCALENDAR
