BEGIN:VCALENDAR
VERSION:2.0
PRODID:-//ChamberMaster//Event Calendar 2.0//EN
METHOD:PUBLISH
X-PUBLISHED-TTL:P3D
REFRESH-INTERVAL:P3D
CALSCALE:GREGORIAN
BEGIN:VEVENT
DTSTART:20150923T160000Z
DTEND:20150923T173000Z
X-MICROSOFT-CDO-ALLDAYEVENT:FALSE
SUMMARY:Let's talk about Social Security and what to do next
DESCRIPTION:Social Security seems to be in the news all the time now.\n\n"Social Security is running out of money!"\n\n"Get what's yours before it is too late!"\n\nWhat we must remember is that headlines are meant to increase viewership and readership. The more dramatic the better!\n\n\n\nCome to this lunch and learn as we navigate all the misinformation and educate you on the ins and outs of Social Security. \n\n\n	When should I take my social security benefits?\n	Do I qualify for a spousal benefit?\n	Do I qualify for any benefit?\n	What if I am divorced?\n	What if my spouse is deceased?\n	I hear that I don't qualify for a social security benefit because I am going to receive a police or teacher's pension\, is that true?\n\nWe will also discuss how Social Security and a sound financial plan can work in unison to provide a healthy retirement. We will help answer these questions and many more. Now more than ever\, it's important for you to know how to get the most from your Social Security. Join us for a discussion. Learn how to make the right calls when it comes to Social Security and your retirement.\n\n\n\nPresented by: Legacy Financial Group\n\na Light Lunch will be served\, so please RSVP
X-ALT-DESC;FMTTYPE=text/html:Social Security seems to be in the news all the time now.<br />\n&quot\;Social Security is running out of money!&quot\;<br />\n&quot\;Get what&#39\;s yours before it is too late!&quot\;<br />\nWhat we must remember is that headlines are meant to increase viewership and readership. The more dramatic the better!<br />\n<br />\n<em>Come to this lunch and learn as we navigate all the misinformation and educate you on the ins and outs of Social Security. </em>\n\n<ul>\n	<li>When should I take my social security benefits?</li>\n	<li>Do I qualify for a spousal benefit?</li>\n	<li>Do I qualify for any benefit?</li>\n	<li>What if I am divorced?</li>\n	<li>What if my spouse is deceased?</li>\n	<li>I hear that I don&#39\;t qualify for a social security benefit because I am going to receive a police or teacher&#39\;s pension\, is that true?</li>\n</ul>\nWe will also discuss how Social Security and a sound financial plan can work in unison to provide a healthy retirement. We will help answer these questions and many more. Now more than ever\, it&#39\;s important for you to know how to get the most from your Social Security. Join us for a discussion. Learn how to make the right calls when it comes to Social Security and your retirement.<br />\n<br />\nPresented by: Legacy Financial Group<br />\na Light Lunch will be served\, so please RSVP
LOCATION:Xfinity Center 885 S Main St Mansfield\, MA 02048
UID:e.1730.1709
SEQUENCE:3
DTSTAMP:20260419T190118Z
URL:https://www.tri-townchamber.org/events/details/let-s-talk-about-social-security-and-what-to-do-next-09-23-2015-1709
END:VEVENT

END:VCALENDAR
