BEGIN:VCALENDAR
VERSION:2.0
PRODID:-//ChamberMaster//Event Calendar 2.0//EN
METHOD:PUBLISH
X-PUBLISHED-TTL:P3D
REFRESH-INTERVAL:P3D
CALSCALE:GREGORIAN
BEGIN:VEVENT
DTSTART:20160112T223000Z
DTEND:20160113T010000Z
X-MICROSOFT-CDO-ALLDAYEVENT:FALSE
SUMMARY:Leadership training Dinner
DESCRIPTION:This dinner and Training is for the 2016 Leadership Team of the Chamber\n\nBoard and Ambassadors
X-ALT-DESC;FMTTYPE=text/html:This dinner and Training is for the 2016 Leadership Team of the Chamber<br />\nBoard and Ambassadors
LOCATION:TPC Boston clubhouse
UID:e.1730.1849
SEQUENCE:3
DTSTAMP:20260419T124251Z
URL:https://www.tri-townchamber.org/events/details/leadership-training-dinner-01-12-2016-1849
END:VEVENT

END:VCALENDAR
