BEGIN:VCALENDAR
VERSION:2.0
PRODID:-//ChamberMaster//Event Calendar 2.0//EN
METHOD:PUBLISH
X-PUBLISHED-TTL:P3D
REFRESH-INTERVAL:P3D
CALSCALE:GREGORIAN
BEGIN:VEVENT
DTSTART:20150608T134500Z
DTEND:20150608T200000Z
X-MICROSOFT-CDO-ALLDAYEVENT:FALSE
SUMMARY:Ladies Golf Clinic\, Luncheon & 9 Hole Tourney
DESCRIPTION:LADIES GOLF CLINIC\, LUNCHEON  & 9 HOLE TOURNAMENT\n\nthe Tri-Town Chamber has been invited to join the Milford Chamber for a Great Day of Golf & Networking! You can Brush up on your game or try golf for the first time.   Absolutely NO Pressure   It's All for Fun!\n\n	9:45am: Registration \n	10am - 11:30am: Golf Clinic   Golf Clinic with PGA Professional John Simmons and his Team.    Includes Basics: Grip\, Alignment & Posture.   Swing Mechanics: Applying them to specific Situations\, Pre-Shot Routines\, Effect Practice\, Club Selection\,  Bunker Play\, & Uneven Lines\n	 11:30am -1pm: Networking & Lunch  BBQ Chicken\, Baked Potato\, Freshly Steamed Green Beans\, Mixed Green Salad\, Rolls & Butter\, & Cookies\n	 1:00pm: 9 Holes of Golf    Best Ball will be played\n\n \n\nSign Up Today - 60 spots are Open for this Opportunity\n\nClinic\, Lunch\, Networking and 9 Holes: only $70\n\nor Attend the Luncheon Only: $25
X-ALT-DESC;FMTTYPE=text/html:<strong>LADIES GOLF CLINIC\, LUNCHEON &nbsp\;&amp\; 9 HOLE TOURNAMENT</strong><br />\nthe Tri-Town Chamber has been invited to join the Milford Chamber for a Great Day of Golf &amp\; Networking! You can Brush up on your game or try golf for the first time.&nbsp\;&nbsp\; Absolutely NO Pressure &ndash\; It&rsquo\;s All for Fun!\n<ul>\n	<li>9:45am: <strong>Registration</strong>&nbsp\;</li>\n	<li>10am - 11:30am: <strong>Golf Clinic</strong>&nbsp\;&nbsp\;&nbsp\;<em>Golf Clinic with PGA Professional John Simmons and his Team.&nbsp\;&nbsp\; &nbsp\;<em>Includes Basics: Grip\, Alignment &amp\; Posture.&nbsp\;&nbsp\; Swing Mechanics: Applying them to specific Situations\, Pre-Shot Routines\, Effect Practice\, Club Selection\, &nbsp\;Bunker Play\, &amp\; Uneven Lines</em></em></li>\n	<li>&nbsp\;11:30am -1pm: <strong>Networking &amp\; Lunch</strong> &nbsp\;<em>BBQ Chicken\, Baked Potato\, Freshly Steamed Green Beans\, Mixed Green Salad\, Rolls &amp\; Butter\, &amp\; Cookies</em></li>\n	<li>&nbsp\;1:00pm: <strong>9 Holes of Golf&nbsp\;&nbsp\;</strong><em>&nbsp\; Best Ball will be played</em></li>\n</ul>\n<em>&nbsp\;</em><br />\n<strong>Sign Up Today</strong> - 60 spots are Open for this Opportunity<br />\nClinic\, Lunch\, Networking and 9 Holes: only $70<br />\nor Attend the Luncheon Only: $25
LOCATION:Bungay Brook Golf Club ~ 30 Locust St\, Bellingham\, MA 02019
UID:e.1730.1650
SEQUENCE:3
DTSTAMP:20260420T000858Z
URL:https://www.tri-townchamber.org/events/details/ladies-golf-clinic-luncheon-9-hole-tourney-06-08-2015-1650
END:VEVENT

END:VCALENDAR
