BEGIN:VCALENDAR
VERSION:2.0
PRODID:-//ChamberMaster//Event Calendar 2.0//EN
METHOD:PUBLISH
X-PUBLISHED-TTL:P3D
REFRESH-INTERVAL:P3D
CALSCALE:GREGORIAN
BEGIN:VEVENT
DTSTART:20150325T220000Z
DTEND:20150325T230000Z
X-MICROSOFT-CDO-ALLDAYEVENT:FALSE
SUMMARY:Knee of Hip pain Slowing You Down?
DESCRIPTION:KNEE OR HIP PAIN SLOWING YOU DOWN?\n\nJoin TV personality Mary Richardson\, Mark Messineo\, MD and MAKOplasty patients to discuss robotics assisted surgery\n\n\n\n MAKOplasty Robotic Assisted Surgery provides a less invasive alternative to traditional knee and hip surgery. MAKO offers patients smaller surgical incisions\, more precise placement of implants and potentially faster post-operative recovery. Norwood Hospital was among the first hospitals in the country to use this breakthrough robotic technology to relieve the pain of osteoarthritis.\n\n\n\nTo reserve your space for this free event\, please call Steward Doctor Finder at 1-800-488-5959.
X-ALT-DESC;FMTTYPE=text/html:<strong>KNEE OR HIP PAIN SLOWING YOU DOWN?</strong><br />\nJoin TV personality Mary Richardson\, Mark Messineo\, MD and MAKOplasty patients to discuss robotics assisted surgery<br />\n<br />\n&#8203\;MAKOplasty Robotic Assisted Surgery provides a less invasive alternative to traditional knee and hip&nbsp\;surgery. MAKO offers patients smaller surgical incisions\, more precise placement of implants and&nbsp\;potentially faster post-operative recovery. Norwood Hospital was among the first hospitals in the country to use this breakthrough robotic technology to relieve the pain of osteoarthritis.<br />\n<br />\nTo reserve your space for this free event\, please call Steward Doctor Finder at 1-800-488-5959.
LOCATION:Lafayette House 109 Washington Street\, Foxboro\, MA
UID:e.1730.1570
SEQUENCE:3
DTSTAMP:20260420T050215Z
URL:https://www.tri-townchamber.org/events/details/knee-of-hip-pain-slowing-you-down-03-25-2015-1570
END:VEVENT

END:VCALENDAR
