BEGIN:VCALENDAR
VERSION:2.0
PRODID:-//ChamberMaster//Event Calendar 2.0//EN
METHOD:PUBLISH
X-PUBLISHED-TTL:P3D
REFRESH-INTERVAL:P3D
CALSCALE:GREGORIAN
BEGIN:VEVENT
DTSTART:20131025T113000Z
DTEND:20131025T130000Z
X-MICROSOFT-CDO-ALLDAYEVENT:FALSE
SUMMARY:Keeping Your Business Compliant with Healthcare Law Changes in Massachusetts: Hosted by NFIB and Barrows Insurance Agency
DESCRIPTION:Join us on October 25th for:\n\nKeeping Your Business Compliant with Healthcare\n\nLaw Changes in Massachusetts\n\nDid you know the federal healthcare\n\nlaw impacts our state law?\n\nIs your business prepared for these changes?\n\nWhile the MA Healthcare Law has been in effect\n\nsince 2006\, many new changes will occur due to\n\nthe federal Affordable Care Act.\n\nThings to consider:\n\n  Is my business compliant with the many mandated changes\n\nunder the Affordable Care Act?\n\n  Am I making the best possible healthcare decisions for my\n\nbusiness?\n\n  Do the healthcare plans offered to my employees satisfy\n\nrequirements under the ACA?\n\n  Is it possible to reduce my cost?\n\nThis event is FREE and breakfast refreshments will be served.
X-ALT-DESC;FMTTYPE=text/html:Join us on October 25th for:<br />\nKeeping Your Business Compliant with Healthcare<br />\nLaw Changes in Massachusetts<br />\nDid you know the federal healthcare<br />\nlaw impacts our state law?<br />\nIs your business prepared for these changes?<br />\nWhile the MA Healthcare Law has been in effect<br />\nsince 2006\, many new changes will occur due to<br />\nthe federal Affordable Care Act.<br />\nThings to consider:<br />\n&bull\; Is my business compliant with the many mandated changes<br />\nunder the Affordable Care Act?<br />\n&bull\; Am I making the best possible healthcare decisions for my<br />\nbusiness?<br />\n&bull\; Do the healthcare plans offered to my employees satisfy<br />\nrequirements under the ACA?<br />\n&bull\; Is it possible to reduce my cost?<br />\nThis event is FREE and breakfast refreshments will be served.<br />\n
LOCATION:Holiday Inn of Mansfield\, 31 Hampshire St\, Mansfield\, MA
UID:e.1730.410
SEQUENCE:3
DTSTAMP:20260421T100928Z
URL:https://www.tri-townchamber.org/events/details/keeping-your-business-compliant-with-healthcare-law-changes-in-massachusetts-hosted-by-nfib-and-barrows-insurance-agency-10-25-2013-410
END:VEVENT

END:VCALENDAR
