BEGIN:VCALENDAR
VERSION:2.0
PRODID:-//ChamberMaster//Event Calendar 2.0//EN
METHOD:PUBLISH
X-PUBLISHED-TTL:P3D
REFRESH-INTERVAL:P3D
CALSCALE:GREGORIAN
BEGIN:VEVENT
DTSTART:20140517T180000Z
DTEND:20140517T220000Z
X-MICROSOFT-CDO-ALLDAYEVENT:FALSE
SUMMARY:Join the Cut-A-Thon at Great Clips!
DESCRIPTION:Cut-A-Thon\n\nBenefiting Relay For Life of Mansfield\n\n\nStaff will be\n\nVolunteering their time with 100% of all\n\nproceeds going to the\n\nRelay for Life of Mansfield
X-ALT-DESC;FMTTYPE=text/html:<h3 style="text-align: center\;"><strong>Cut-A-Thon</strong></h3>\n\n<h3 style="text-align: center\;"><span style="color:#ff0000\;"><strong style="font-size: 12px\;"><span style="background-color:#ffff00\;">Benefiting Relay For Life of Mansfield</span></strong></span></h3>\n\n<div>\n<h3 style="text-align: center\;"><strong style="font-size: 12px\;">Staff will be</strong></h3>\n\n<h3 style="text-align: center\;"><strong>Volunteering their time with 100% of all</strong></h3>\n\n<h3 style="text-align: center\;"><strong>proceeds going to the</strong></h3>\n\n<h3 style="text-align: center\;"><strong>Relay for Life of Mansfield</strong></h3>\n</div>\n
LOCATION:Great Clips Located next to Stop and Shop 377 Chauncy St\, Mansfield\, MA 02048
UID:e.1730.1011
SEQUENCE:3
DTSTAMP:20260421T000414Z
URL:https://www.tri-townchamber.org/events/details/join-the-cut-a-thon-at-great-clips-05-17-2014-1011
END:VEVENT

END:VCALENDAR
