BEGIN:VCALENDAR
VERSION:2.0
PRODID:-//ChamberMaster//Event Calendar 2.0//EN
METHOD:PUBLISH
X-PUBLISHED-TTL:P3D
REFRESH-INTERVAL:P3D
CALSCALE:GREGORIAN
BEGIN:VEVENT
DTSTART:20260608T140000Z
DTEND:20260608T210000Z
X-MICROSOFT-CDO-ALLDAYEVENT:FALSE
SUMMARY:Joe Andruzzi and Friends Golf Tournament
DESCRIPTION:https://joeandruzzifoundation.org/event/18th-annual-joe-andruzzi-friends-golf-tournament/
X-ALT-DESC;FMTTYPE=text/html:https://joeandruzzifoundation.org/event/18th-annual-joe-andruzzi-friends-golf-tournament/
LOCATION:Black Rock Country Club Hingham\, MA
UID:e.1730.8499
SEQUENCE:3
DTSTAMP:20260419T183508Z
URL:https://www.tri-townchamber.org/events/details/joe-andruzzi-and-friends-golf-tournament-8499
END:VEVENT

END:VCALENDAR
