BEGIN:VCALENDAR
VERSION:2.0
PRODID:-//ChamberMaster//Event Calendar 2.0//EN
METHOD:PUBLISH
X-PUBLISHED-TTL:P3D
REFRESH-INTERVAL:P3D
CALSCALE:GREGORIAN
BEGIN:VEVENT
DTSTART:20130928T220000Z
DTEND:20130929T020000Z
X-MICROSOFT-CDO-ALLDAYEVENT:FALSE
SUMMARY:Jimmy Tingle Live - National Black Doll Museum
DESCRIPTION:Jimmy Tingle is regarded as one of the top social and political humorists in America.    He has worked as a stand up comic\, producer\, writer\, actor\, filmmaker and commentator in several mediums from the early 1980?s to the present day. His professional career has spanned nearly 3 decades.  Prior to ?American Dream?\, a one hour tour de force of comedy\, commentary and conversation on DVD.  Tingle completed two seasons with 60 Minutes II on CBS as the humorist / commentator in the Andy Rooney spot. He worked as a contributor and satirist for MSNBC and has appeared on The Tonight Show\, CNN\, Larry King?s Weekend\, and Late Night with Conan O?Brien\, The American Comedy Awards\, as well as his own HBO comedy special \n\n\n\nWeekend Celebration Schedule for the Black Doll Museum\n\n	\n		Friday\, 9/27/13  Dolls\, Drummers & Desserts\, Ribbon Cutting   4:00pm-9:00pm\n	\n		Saturday\, 9/28/13 Doll Fest and Evening Gala Doll Fest - vendors booths\, tours & networking with doll dealers & vendors 10:00AM - 5:00PM\n	\n		Gala - featuring JIMMY TINGLE LIVE!  Comedy & Reception Saturday\, 9/28/13 from 6-10pm\n	\n		Sunday\, 9/29/13 Gospel Brunch Faith Fellowship United Methodist Church 11:30-2:00pm\n\n\n\nTHE NATIONAL BLACK DOLL MUSEUM 288 NORTH MAIN STREET\, MANSFIELD MA 02048
X-ALT-DESC;FMTTYPE=text/html:Jimmy Tingle is regarded as one of the top social and political humorists in America. &nbsp\; &nbsp\;He has worked as a stand up comic\, producer\, writer\, actor\, filmmaker and commentator in several mediums from the early 1980?s to the present day. His professional career has spanned nearly 3 decades. &nbsp\;Prior to ?American Dream?\, a one hour tour de force of comedy\, commentary and conversation on DVD. &nbsp\;Tingle completed two seasons with 60 Minutes II on CBS as the humorist / commentator in the Andy Rooney spot. He worked as a contributor and satirist for MSNBC and has appeared on The Tonight Show\, CNN\, Larry King?s Weekend\, and Late Night with Conan O?Brien\, The American Comedy Awards\, as well as his own HBO comedy special&nbsp\;<br />\n<br />\nWeekend Celebration Schedule for the Black Doll Museum\n<ul>\n	<li>\n		Friday\, 9/27/13 &nbsp\;Dolls\, Drummers &amp\; Desserts\, Ribbon Cutting &nbsp\; 4:00pm-9:00pm</li>\n	<li>\n		Saturday\, 9/28/13 Doll Fest and Evening Gala Doll Fest - vendors booths\, tours &amp\; networking with doll dealers &amp\; vendors&nbsp\;10:00AM - 5:00PM</li>\n	<li>\n		Gala - featuring JIMMY TINGLE LIVE! &nbsp\;Comedy &amp\; Reception Saturday\, 9/28/13 from&nbsp\;6-10pm</li>\n	<li>\n		Sunday\, 9/29/13 Gospel Brunch Faith Fellowship United Methodist Church 11:30-2:00pm</li>\n</ul>\n<br />\nTHE NATIONAL BLACK DOLL MUSEUM 288 NORTH MAIN STREET\, MANSFIELD MA 02048 
LOCATION:The National Black Doll Museum 288 North Main Street\, Mansfield MA 02048
UID:e.1730.411
SEQUENCE:3
DTSTAMP:20260421T132158Z
URL:https://www.tri-townchamber.org/events/details/jimmy-tingle-live-national-black-doll-museum-09-28-2013-411
END:VEVENT

END:VCALENDAR
