BEGIN:VCALENDAR
VERSION:2.0
PRODID:-//ChamberMaster//Event Calendar 2.0//EN
METHOD:PUBLISH
X-PUBLISHED-TTL:P3D
REFRESH-INTERVAL:P3D
CALSCALE:GREGORIAN
BEGIN:VEVENT
DTSTART:20151029T120000Z
DTEND:20151029T130000Z
X-MICROSOFT-CDO-ALLDAYEVENT:FALSE
SUMMARY:Human Resource Council
DESCRIPTION:Tri-Town Chamber of Commerce Human Resources Council\n\nThe Council will be made up of HR professionals and people who cover HR functions for their company. The plan is to meet quarterly and to discuss HR issues that are faced by employers.  The Council will present its members with an opportunity for open discussion and sharing of ideas and practices about actual employer/employee matters.  The Council will be a forum to review\, learn about and discuss new laws and changes in the law that impact the workplace.  The Council is sponsored by Timothy Kenneally\, Esquire\, Foley & Foley\, PC.
X-ALT-DESC;FMTTYPE=text/html:Tri-Town Chamber of Commerce Human Resources Council<br />\nThe Council will be made up of HR professionals and people who cover HR functions for their company. The plan is to meet quarterly and to discuss HR issues that are faced by employers.&nbsp\; The Council will present its members with an opportunity for open discussion and sharing of ideas and practices about actual employer/employee matters.&nbsp\; The Council will be a forum to review\, learn about and discuss new laws and changes in the law that impact the workplace.&nbsp\; The Council is sponsored by Timothy Kenneally\, Esquire\, Foley &amp\; Foley\, PC.<br />\n<br />\n&nbsp\;
LOCATION:at the Chamber
UID:e.1730.1717
SEQUENCE:3
DTSTAMP:20260419T172142Z
URL:https://www.tri-townchamber.org/events/details/human-resource-council-10-29-2015-1717
END:VEVENT

END:VCALENDAR
