BEGIN:VCALENDAR
VERSION:2.0
PRODID:-//ChamberMaster//Event Calendar 2.0//EN
METHOD:PUBLISH
X-PUBLISHED-TTL:P3D
REFRESH-INTERVAL:P3D
CALSCALE:GREGORIAN
BEGIN:VEVENT
DTSTART:20131019T133000Z
DTEND:20131019T160000Z
X-MICROSOFT-CDO-ALLDAYEVENT:FALSE
SUMMARY:HUGS Foxboro Walk for Domestic Violence Awareness and Prevention
DESCRIPTION:7th Annual Walk For Domestic/Family Violence Awareness\, Prevention\, and Education. Help celebrate HUGS Foxboro's 7th annual walk\n\n\n\nRaise Money! Win Prizes! Have Fun!\n\nTee shirts for the first 25 walkers who turn in $100 or more\n\n(Eligibility: donations must be turned in the day of the walk.)\n\nChecks may also be mailed to  H.U.G.S. Foxboro\, P.O. Box 466  Foxboro\, MA 02035\n\n\n\nSet your goal for the amount of money you'd like to raise and then find friends\, family and associates to sponsor you.\n\n \n\nStart by sponsoring yourself! Collect all the money before the walk and turn it in at registration.\n\nPlease make all checks payable to H.U.G.S. FOXBORO For more info call  508.698.8784  (Please leave a message.)\n\n \n\nH.UG.S. FOXBORO Help Us Get Safe  is a nonprofit\, volunteer organization established to assist individuals and families affected by domestic violence.  Since 2001 they have been able to fulfill our mission towards making our community safer by educating the public regarding violence in relationships\, and by providing assistance to victims and families affected by domestic violence.\n\n \n\nH.UG.S. FOXBORO Accomplishments\n\nAssist women and families with transportation\, lock changes\, food\, personal care items\, clothing\n\nEducational presentations to the community and schools\n\nMember of  the Community Task Force to Address Bullying and Harassment\n\nSponsors of the Silent Witness  and Clothes Line Projects    \n\nSelf Defense Seminars for Women
X-ALT-DESC;FMTTYPE=text/html:7th Annual Walk For Domestic/Family Violence Awareness\, Prevention\, and Education.&nbsp\;Help celebrate HUGS Foxboro&rsquo\;s 7th annual walk<br />\n<br />\nRaise Money! Win Prizes! Have Fun!<br />\nTee shirts for the first 25 walkers who turn in $100 or more<br />\n(Eligibility: donations must be turned in the day of the walk.)<br />\nChecks may also be mailed to &nbsp\;H.U.G.S. Foxboro\,&nbsp\;P.O. Box 466 &nbsp\;Foxboro\, MA 02035<br />\n<br />\nSet your goal for the amount of money you&rsquo\;d like to raise and then find friends\, family and associates to sponsor you.<br />\n&nbsp\;<br />\nStart by sponsoring yourself! Collect all the money before the walk and turn it in at registration.<br />\nPlease make all checks payable to H.U.G.S. FOXBORO For more info call &nbsp\;508.698.8784 &nbsp\;(Please leave a message.)<br />\n&nbsp\;<br />\nH.UG.S. FOXBORO Help Us Get Safe&nbsp\; is a nonprofit\, volunteer organization established to assist individuals and families affected by domestic violence.&nbsp\; Since 2001 they have been able to fulfill our mission towards making our community safer by educating the public regarding violence in relationships\, and by providing assistance to victims and families affected by domestic violence.<br />\n&nbsp\;<br />\nH.UG.S. FOXBORO Accomplishments<br />\nAssist women and families with transportation\, lock changes\, food\, personal care items\, clothing<br />\nEducational presentations to the community and schools<br />\nMember of&nbsp\; the Community Task Force to Address Bullying and Harassment<br />\nSponsors of the Silent Witness &nbsp\;and Clothes Line Projects&nbsp\;&nbsp\;&nbsp\;&nbsp\;<br />\nSelf Defense Seminars for Women<br />\n
LOCATION:Meet at the Ahern Middle School Gym Foxboro\, MA A brisk fall walk around the track of the Ahern Middle School to benefit H.U.G.S. FOXBORO
UID:e.1730.394
SEQUENCE:3
DTSTAMP:20260421T100627Z
URL:https://www.tri-townchamber.org/events/details/hugs-foxboro-walk-for-domestic-violence-awareness-and-prevention-10-19-2013-394
END:VEVENT

END:VCALENDAR
