BEGIN:VCALENDAR
VERSION:2.0
PRODID:-//ChamberMaster//Event Calendar 2.0//EN
METHOD:PUBLISH
X-PUBLISHED-TTL:P3D
REFRESH-INTERVAL:P3D
CALSCALE:GREGORIAN
BEGIN:VEVENT
DTSTART:20151217T220000Z
DTEND:20151218T013000Z
X-MICROSOFT-CDO-ALLDAYEVENT:FALSE
SUMMARY:Holiday Open House/Ribbon-Cutting
DESCRIPTION:Please join us to celebrate\n\nthe new home of \n\nHR Knowledge\n\nand allow us the opportunity to say\n\nthank you to our clients\, partners\n\nand employees.\n\n\n\nThursday\, December 17\n\nfrom 5 p.m. to 8:30 p.m.\n\n15 Berkshire Road\n\nMansfield\, Massachusetts 02048\n\n\n\nCocktails and Hors D'oeuvres will be served\n\n\n\nRSVP to HR@hrknowledge.com or call 508-339-1300\n\n\n\nHosted in partnership with:\n\nTech Advisors    ADP\n\nTASC                Beacon Telecom\n\nGuardian            Harvard Pilgrim HealthCare
X-ALT-DESC;FMTTYPE=text/html:<div style="text-align: center\;">Please join us to celebrate<br />\nthe new home of&nbsp\;<br />\n<strong>HR Knowledge</strong><br />\nand allow us the opportunity to say<br />\nthank you to our clients\, partners<br />\nand employees.<br />\n<br />\n<strong>Thursday\, December 17<br />\nfrom 5 p.m. to 8:30 p.m.<br />\n15 Berkshire Road</strong><br />\n<strong>Mansfield\, Massachusetts 02048</strong><br />\n<br />\nCocktails and Hors D&#39\;oeuvres will be served<br />\n<br />\n<strong>RSVP to HR@hrknowledge.com or call 508-339-1300</strong><br />\n<br />\nHosted in partnership with:<br />\nTech Advisors&nbsp\; &nbsp\; ADP<br />\nTASC&nbsp\;&nbsp\;&nbsp\;&nbsp\;&nbsp\;&nbsp\;&nbsp\;&nbsp\;&nbsp\;&nbsp\;&nbsp\;&nbsp\;&nbsp\; &nbsp\; Beacon Telecom<br />\nGuardian&nbsp\;&nbsp\;&nbsp\;&nbsp\;&nbsp\; &nbsp\;&nbsp\;&nbsp\; &nbsp\; Harvard Pilgrim HealthCare</div>\n
LOCATION:15 Berkshire Road\, Mansfield\, Massachusetts 02048
UID:e.1730.2039
SEQUENCE:3
DTSTAMP:20260419T154801Z
URL:https://www.tri-townchamber.org/events/details/holiday-open-house-ribbon-cutting-12-17-2015-2039
END:VEVENT

END:VCALENDAR
