BEGIN:VCALENDAR
VERSION:2.0
PRODID:-//ChamberMaster//Event Calendar 2.0//EN
METHOD:PUBLISH
X-PUBLISHED-TTL:P3D
REFRESH-INTERVAL:P3D
CALSCALE:GREGORIAN
BEGIN:VEVENT
DTSTART:20151129T160000Z
DTEND:20151129T200000Z
X-MICROSOFT-CDO-ALLDAYEVENT:FALSE
SUMMARY:Holiday House Tour & Tea - Mansfield Women of Today
DESCRIPTION:The Mansfield Women of Today is proudly holding its 21st annual House Tour\, "Holiday House Tour and Tea" on Sunday\, November 29th\, 2015.  After a 2 year hiatus\, they are excited to bring this much-loved tradition back to our community!  Attendees on the house tour will view 5 festively decorated homes with unique furnishings and creative  d cor accompanied with music and  singers! Attendees are also welcome to visit the "Tea House" and leisurely sip warm beverages and enjoy home-baked pastries\, breads & cookies. \n\n\n\nThe proceeds from this event will benefit the 2016 High School Scholarship for Community Service\, Council on Aging\, Friends of the Library\, New Hope Shelter for Women and Our Daily Bread Food Pantry\, as well as many other deserving projects in the community which the Mansfield Women of Today sponsor throughout the year. \n\n\n\nNew this year... Glee Gifts  boutique on wheels will be selling apparel\, jewelry\, gifts & accessories. The truck will be located at one of the homes.\n\n\n\n__________\n\n\n\nAre You a Business and looking for exposure at this event?\n\n\n\nMany of the house tour  patrons tour the homes to gather ideas for remodeling and decorating\, therefore\, they invite business to consider placing an ad in the event program book.  Ad sizes / costs for every budget\, ranging from $50 for   page to $150 for a full page. There is  limited premium space on the covers for $200-$225\, sold on a first come basis. All ads will be printed in black and white. The deadline to receive your ad and payment is Wednesday\, October 14th.\n\n \n\nIn keeping with the holiday spirit of giving\, the proceeds from this event will benefit the 2016 High School Scholarship for Community Service\, Council on Aging\, Friends of the Library\, New Hope Shelter for Women and Our Daily Bread Food Pantry\, as well as many other deserving projects in the community which the Mansfield Women of Today sponsor throughout the year. The House Tour is our major fundraiser for the year\, please consider helping our great causes\, while getting some exposure for your business!\n\n \n\nPlease contact Carrie Weston the Advertising Chair\, at Home: 774-215-5325 or Cell: 774-284-2788 or email address below to let us know if you are interested in participating in this event.   E-mail: carrie.weston@live.com
X-ALT-DESC;FMTTYPE=text/html:<span style="font-size:14px\;"><span style="font-family:arial\;"><span style="line-height: 23.1111px\;">The Mansfield Women of Today is proudly holding its&nbsp\;</span>21st<span style="line-height: 23.1111px\;">&nbsp\;annual House Tour\, <strong>&ldquo\;Holiday House Tour and Tea&rdquo\; </strong>on Sunday\, November&nbsp\;</span>29th<span style="line-height: 23.1111px\;">\, 2015.&nbsp\; After a 2 year hiatus\, they are excited to bring this much-loved tradition back to our community!&nbsp\;&nbsp\;</span>Attendees on the house tour will view 5 festively decorated homes with unique furnishings and creative&nbsp\; d&eacute\;cor accompanied with music and&nbsp\; singers! Attendees are also welcome to&nbsp\;visit the &quot\;Tea House&quot\; and leisurely sip warm beverages and enjoy home-baked pastries\, breads &amp\; cookies.&nbsp\;<br />\n<br />\n<span style="line-height: 23.1111px\;">The proceeds from this event will benefit the 2016 High School Scholarship for Community Service\, Council on Aging\, Friends of the Library\, New Hope Shelter for Women and Our Daily Bread Food Pantry\, as well as many other deserving projects in the community which the Mansfield Women of Today sponsor throughout the year.&nbsp\;</span><br />\n<br />\nNew this year... Glee Gifts&reg\; boutique on wheels will be selling apparel\, jewelry\, gifts &amp\; accessories.&nbsp\;The truck will be located at one of the homes.<br />\n<br />\n__________<br />\n<br />\n<strong>Are You a Business and looking for exposure at this event?</strong><br />\n<br />\nMany of the house tour &nbsp\;patrons tour the homes to gather ideas for remodeling and decorating\, therefore\, they invite business to consider placing an ad in the event program book.&nbsp\;&nbsp\;Ad sizes / costs for every budget\, ranging from $50 for &frac14\; page to $150 for a full page. There is &nbsp\;limited premium space on the covers for $200-$225\, sold on a first come basis. All ads will be printed in black and white. The deadline to receive your ad and payment is Wednesday\, October 14th.<br />\n&nbsp\;<br />\nIn keeping with the holiday spirit of giving\, the proceeds from this event will benefit the 2016 High School Scholarship for Community Service\, Council on Aging\, Friends of the Library\, New Hope Shelter for Women and Our Daily Bread Food Pantry\, as well as many other deserving projects in the community which the Mansfield Women of Today sponsor throughout the year. The House Tour is our major fundraiser for the year\, please consider helping our great causes\, while getting some exposure for your business!<br />\n&nbsp\;<br />\nPlease contact <span style="line-height: 23.1111px\;">Carrie Weston the&nbsp\;</span><span style="line-height: 23.1111px\;">Advertising Chair\,&nbsp\;</span>at <span style="line-height: 23.1111px\;">Home: 774-215-5325 or&nbsp\;</span><span style="line-height: 23.1111px\;">Cell: 774-284-2788</span> or email address below to let us know if you are interested in participating in this event. &nbsp\;&nbsp\;E-mail: <a href="mailto:carrie.weston@live.com">carrie.weston@live.com</a></span></span><br />\n&nbsp\;
LOCATION:Homes located in Mansfield
UID:e.1730.1837
SEQUENCE:3
DTSTAMP:20260419T154926Z
URL:https://www.tri-townchamber.org/events/details/holiday-house-tour-tea-mansfield-women-of-today-11-29-2015-1837
END:VEVENT

END:VCALENDAR
